BEGIN:VCALENDAR
VERSION:2.0
PRODID:-//jEvents 2.0 for Joomla//EN
CALSCALE:GREGORIAN
METHOD:PUBLISH
BEGIN:VTIMEZONE
TZID:Europe/Prague
BEGIN:STANDARD
DTSTART:20230120T090000
RDATE:20230326T030000
TZOFFSETFROM:+0200
TZOFFSETTO:+0100
TZNAME:Europe/Prague CET
END:STANDARD
BEGIN:STANDARD
DTSTART:20231029T020000
RDATE:20240331T030000
TZOFFSETFROM:+0200
TZOFFSETTO:+0100
TZNAME:Europe/Prague CET
END:STANDARD
BEGIN:STANDARD
DTSTART:20241027T020000
RDATE:20250330T030000
TZOFFSETFROM:+0200
TZOFFSETTO:+0100
TZNAME:Europe/Prague CET
END:STANDARD
BEGIN:STANDARD
DTSTART:20251026T020000
RDATE:20260329T030000
TZOFFSETFROM:+0200
TZOFFSETTO:+0100
TZNAME:Europe/Prague CET
END:STANDARD
BEGIN:STANDARD
DTSTART:20261025T020000
RDATE:20270328T030000
TZOFFSETFROM:+0200
TZOFFSETTO:+0100
TZNAME:Europe/Prague CET
END:STANDARD
BEGIN:STANDARD
DTSTART:20271031T020000
RDATE:20280326T030000
TZOFFSETFROM:+0200
TZOFFSETTO:+0100
TZNAME:Europe/Prague CET
END:STANDARD
BEGIN:STANDARD
DTSTART:20281029T020000
RDATE:20290325T030000
TZOFFSETFROM:+0200
TZOFFSETTO:+0100
TZNAME:Europe/Prague CET
END:STANDARD
BEGIN:STANDARD
DTSTART:20291028T020000
RDATE:20300331T030000
TZOFFSETFROM:+0200
TZOFFSETTO:+0100
TZNAME:Europe/Prague CET
END:STANDARD
BEGIN:STANDARD
DTSTART:20301027T020000
RDATE:20310330T030000
TZOFFSETFROM:+0200
TZOFFSETTO:+0100
TZNAME:Europe/Prague CET
END:STANDARD
BEGIN:STANDARD
DTSTART:20311026T020000
RDATE:20320328T030000
TZOFFSETFROM:+0200
TZOFFSETTO:+0100
TZNAME:Europe/Prague CET
END:STANDARD
BEGIN:DAYLIGHT
DTSTART:20230326T030000
RDATE:20231029T020000
TZOFFSETFROM:+0100
TZOFFSETTO:+0200
TZNAME:Europe/Prague CEST
END:DAYLIGHT
BEGIN:DAYLIGHT
DTSTART:20240331T030000
RDATE:20241027T020000
TZOFFSETFROM:+0100
TZOFFSETTO:+0200
TZNAME:Europe/Prague CEST
END:DAYLIGHT
BEGIN:DAYLIGHT
DTSTART:20250330T030000
RDATE:20251026T020000
TZOFFSETFROM:+0100
TZOFFSETTO:+0200
TZNAME:Europe/Prague CEST
END:DAYLIGHT
BEGIN:DAYLIGHT
DTSTART:20260329T030000
RDATE:20261025T020000
TZOFFSETFROM:+0100
TZOFFSETTO:+0200
TZNAME:Europe/Prague CEST
END:DAYLIGHT
BEGIN:DAYLIGHT
DTSTART:20270328T030000
RDATE:20271031T020000
TZOFFSETFROM:+0100
TZOFFSETTO:+0200
TZNAME:Europe/Prague CEST
END:DAYLIGHT
BEGIN:DAYLIGHT
DTSTART:20280326T030000
RDATE:20281029T020000
TZOFFSETFROM:+0100
TZOFFSETTO:+0200
TZNAME:Europe/Prague CEST
END:DAYLIGHT
BEGIN:DAYLIGHT
DTSTART:20290325T030000
RDATE:20291028T020000
TZOFFSETFROM:+0100
TZOFFSETTO:+0200
TZNAME:Europe/Prague CEST
END:DAYLIGHT
BEGIN:DAYLIGHT
DTSTART:20300331T030000
RDATE:20301027T020000
TZOFFSETFROM:+0100
TZOFFSETTO:+0200
TZNAME:Europe/Prague CEST
END:DAYLIGHT
BEGIN:DAYLIGHT
DTSTART:20310330T030000
RDATE:20311026T020000
TZOFFSETFROM:+0100
TZOFFSETTO:+0200
TZNAME:Europe/Prague CEST
END:DAYLIGHT
END:VTIMEZONE
BEGIN:VEVENT
UID:9b04c14c2f9d7a12a47527dfd75cf25b
CATEGORIES:Sales Exhibitions
CREATED:20240321T155441
SUMMARY:Ingolstadt Entomological Exchange
LOCATION:Ingoldstadt\, Germany
DESCRIPTION:Ingolstadt Insect Exchange\nin the event hall of the Mailing-Feldkirchen sp
 orts restaurant, Am Himmelreich 15, 85055 Ingolstadt\n(The venue is located
  near the A9 motorway, which can be reached via the B16a federal highway.)\
 nThere are sufficient parking spaces available directly at the event locati
 on.\nIn addition, the restaurant and café “Genussvoll” offers a welcome opp
 ortunity to chat over a snack or lunch in a cozy atmosphere.\nThe fee for e
 xhibitors is €10 per linear meter of table space.\nSince space is limited, 
 we would like to ask you to register as soon as possible.\nPlease send your
  reservation request by email to This email address is being protected from
  spambots. You need JavaScript enabled to view it.\n
X-ALT-DESC;FMTTYPE=text/html:<p>Ingolstadt Insect Exchange</p><p>in the event hall of the Mailing-Feldki
 rchen sports restaurant, Am Himmelreich 15, 85055 Ingolstadt</p><p>(The ven
 ue is located near the A9 motorway, which can be reached via the B16a feder
 al highway.)</p><p>There are sufficient parking spaces available directly a
 t the event location.</p><p>In addition, the restaurant and café “Genussvol
 l” offers a welcome opportunity to chat over a snack or lunch in a cozy atm
 osphere.</p><p>The fee for exhibitors is €10 per linear meter of table spac
 e.</p><p>Since space is limited, we would like to ask you to register as so
 on as possible.</p><p>Please send your reservation request by email to <joo
 mla-hidden-mail  is-link="" is-email="1" first="RHIuQS1IYWxsZXI=" last="dC1
 vbmxpbmUuZGU=" text="RHIuQS1IYWxsZXJAdC1vbmxpbmUuZGU=" base="" >This email 
 address is being protected from spambots. You need JavaScript enabled to vi
 ew it.</joomla-hidden-mail></p>
CONTACT:E-mail: This email address is being protected from spambots. You need JavaScript enabled to view it.
DTSTAMP:20260420T001139
DTSTART;TZID=Europe/Prague:20240121T090000
DTEND;TZID=Europe/Prague:20240121T150000
SEQUENCE:0
TRANSP:OPAQUE
END:VEVENT
END:VCALENDAR