BEGIN:VCALENDAR
VERSION:2.0
PRODID:-//jEvents 2.0 for Joomla//EN
CALSCALE:GREGORIAN
METHOD:PUBLISH
BEGIN:VTIMEZONE
TZID:Europe/Prague
BEGIN:STANDARD
DTSTART:20231029T020000
RDATE:20240331T030000
TZOFFSETFROM:+0200
TZOFFSETTO:+0100
TZNAME:Europe/Prague CET
END:STANDARD
BEGIN:STANDARD
DTSTART:20241027T020000
RDATE:20250330T030000
TZOFFSETFROM:+0200
TZOFFSETTO:+0100
TZNAME:Europe/Prague CET
END:STANDARD
BEGIN:STANDARD
DTSTART:20251026T020000
RDATE:20260329T030000
TZOFFSETFROM:+0200
TZOFFSETTO:+0100
TZNAME:Europe/Prague CET
END:STANDARD
BEGIN:STANDARD
DTSTART:20261025T020000
RDATE:20270328T030000
TZOFFSETFROM:+0200
TZOFFSETTO:+0100
TZNAME:Europe/Prague CET
END:STANDARD
BEGIN:STANDARD
DTSTART:20271031T020000
RDATE:20280326T030000
TZOFFSETFROM:+0200
TZOFFSETTO:+0100
TZNAME:Europe/Prague CET
END:STANDARD
BEGIN:STANDARD
DTSTART:20281029T020000
RDATE:20290325T030000
TZOFFSETFROM:+0200
TZOFFSETTO:+0100
TZNAME:Europe/Prague CET
END:STANDARD
BEGIN:STANDARD
DTSTART:20291028T020000
RDATE:20300331T030000
TZOFFSETFROM:+0200
TZOFFSETTO:+0100
TZNAME:Europe/Prague CET
END:STANDARD
BEGIN:STANDARD
DTSTART:20301027T020000
RDATE:20310330T030000
TZOFFSETFROM:+0200
TZOFFSETTO:+0100
TZNAME:Europe/Prague CET
END:STANDARD
BEGIN:STANDARD
DTSTART:20311026T020000
RDATE:20320328T030000
TZOFFSETFROM:+0200
TZOFFSETTO:+0100
TZNAME:Europe/Prague CET
END:STANDARD
BEGIN:DAYLIGHT
DTSTART:20231026T080000
RDATE:20231029T020000
TZOFFSETFROM:+0100
TZOFFSETTO:+0200
TZNAME:Europe/Prague CEST
END:DAYLIGHT
BEGIN:DAYLIGHT
DTSTART:20240331T030000
RDATE:20241027T020000
TZOFFSETFROM:+0100
TZOFFSETTO:+0200
TZNAME:Europe/Prague CEST
END:DAYLIGHT
BEGIN:DAYLIGHT
DTSTART:20250330T030000
RDATE:20251026T020000
TZOFFSETFROM:+0100
TZOFFSETTO:+0200
TZNAME:Europe/Prague CEST
END:DAYLIGHT
BEGIN:DAYLIGHT
DTSTART:20260329T030000
RDATE:20261025T020000
TZOFFSETFROM:+0100
TZOFFSETTO:+0200
TZNAME:Europe/Prague CEST
END:DAYLIGHT
BEGIN:DAYLIGHT
DTSTART:20270328T030000
RDATE:20271031T020000
TZOFFSETFROM:+0100
TZOFFSETTO:+0200
TZNAME:Europe/Prague CEST
END:DAYLIGHT
BEGIN:DAYLIGHT
DTSTART:20280326T030000
RDATE:20281029T020000
TZOFFSETFROM:+0100
TZOFFSETTO:+0200
TZNAME:Europe/Prague CEST
END:DAYLIGHT
BEGIN:DAYLIGHT
DTSTART:20290325T030000
RDATE:20291028T020000
TZOFFSETFROM:+0100
TZOFFSETTO:+0200
TZNAME:Europe/Prague CEST
END:DAYLIGHT
BEGIN:DAYLIGHT
DTSTART:20300331T030000
RDATE:20301027T020000
TZOFFSETFROM:+0100
TZOFFSETTO:+0200
TZNAME:Europe/Prague CEST
END:DAYLIGHT
BEGIN:DAYLIGHT
DTSTART:20310330T030000
RDATE:20311026T020000
TZOFFSETFROM:+0100
TZOFFSETTO:+0200
TZNAME:Europe/Prague CEST
END:DAYLIGHT
END:VTIMEZONE
BEGIN:VEVENT
UID:ce5f418afff377c11ca18b2eccbc4587
CATEGORIES:Sales Exhibitions
CREATED:20240321T162356
SUMMARY:Entomological Exchange Munich
LOCATION:Munich\, Germany
DESCRIPTION:<p>Munich Insect Exchange</p><p>The 60th Munich Insect Fair took place in t
 he Kolpinghaus St. Theresia, Hanebergstraße 8, 80637 Munich (T +4989126050)
 .</p><p>Price per table (170 x 80 cm): 35 euros including 19% VAT. For 2 ta
 bles or more, one accompanying person is free. Additional accompanying pers
 ons must purchase an entry ticket. Entrance fee 5 euros.</p><p>Register by 
 email to <joomla-hidden-mail  is-link="" is-email="1" first="c3RlZmFuLmxvZW
 ZsYXRo" last="dC1vbmxpbmUuZGU=" text="c3RlZmFuLmxvZWZsYXRoQHQtb25saW5lLmRl"
  base="" >This email address is being protected from spambots. You need Jav
 aScript enabled to view it.</joomla-hidden-mail></p><p>Please note:</p><ul>
 <li>The laws and any regulations regarding the pandemic currently issued by
  the Bavarian state government will be implemented by the organizer and mus
 t be observed!</li><li>For fire safety reasons, structures over 80 cm are o
 nly permitted on wall spaces</li><li>The currently valid versions of the Fe
 deral Nature Conservation Act and the provisions of the Washington Conventi
 on on Endangered Species Conservation must be strictly observed!</li><li>On
 ly insects may be exhibited! No crabs, snails and mussels as well as live s
 piders and scorpions!</li></ul><p>Violations and all consequences will be b
 orne by the respective exhibitor.</p><p>Please register by email to <joomla
 -hidden-mail  is-link="" is-email="1" first="c3RlZmFuLmxvZWZsYXRo" last="dC
 1vbmxpbmUuZGU=" text="c3RlZmFuLmxvZWZsYXRoQHQtb25saW5lLmRl" base="" >This e
 mail address is being protected from spambots. You need JavaScript enabled 
 to view it.</joomla-hidden-mail></p><p>Space reservations for unknown peopl
 e will only be made if the stand rental has been paid in advance by bank tr
 ansfer.</p>
CONTACT:E-mail: This email address is being protected from spambots. You need JavaScript enabled to view it.
DTSTAMP:20260420T022747
DTSTART;TZID=Europe/Prague:20241026T080000
DTEND;TZID=Europe/Prague:20241026T140000
SEQUENCE:0
TRANSP:OPAQUE
END:VEVENT
END:VCALENDAR