BEGIN:VCALENDAR
VERSION:2.0
PRODID:-//jEvents 2.0 for Joomla//EN
CALSCALE:GREGORIAN
METHOD:PUBLISH
BEGIN:VTIMEZONE
TZID:Europe/Prague
BEGIN:STANDARD
DTSTART:20231102T120000
RDATE:20240331T030000
TZOFFSETFROM:+0200
TZOFFSETTO:+0100
TZNAME:Europe/Prague CET
END:STANDARD
BEGIN:STANDARD
DTSTART:20241027T020000
RDATE:20250330T030000
TZOFFSETFROM:+0200
TZOFFSETTO:+0100
TZNAME:Europe/Prague CET
END:STANDARD
BEGIN:STANDARD
DTSTART:20251026T020000
RDATE:20260329T030000
TZOFFSETFROM:+0200
TZOFFSETTO:+0100
TZNAME:Europe/Prague CET
END:STANDARD
BEGIN:STANDARD
DTSTART:20261025T020000
RDATE:20270328T030000
TZOFFSETFROM:+0200
TZOFFSETTO:+0100
TZNAME:Europe/Prague CET
END:STANDARD
BEGIN:STANDARD
DTSTART:20271031T020000
RDATE:20280326T030000
TZOFFSETFROM:+0200
TZOFFSETTO:+0100
TZNAME:Europe/Prague CET
END:STANDARD
BEGIN:STANDARD
DTSTART:20281029T020000
RDATE:20290325T030000
TZOFFSETFROM:+0200
TZOFFSETTO:+0100
TZNAME:Europe/Prague CET
END:STANDARD
BEGIN:STANDARD
DTSTART:20291028T020000
RDATE:20300331T030000
TZOFFSETFROM:+0200
TZOFFSETTO:+0100
TZNAME:Europe/Prague CET
END:STANDARD
BEGIN:STANDARD
DTSTART:20301027T020000
RDATE:20310330T030000
TZOFFSETFROM:+0200
TZOFFSETTO:+0100
TZNAME:Europe/Prague CET
END:STANDARD
BEGIN:STANDARD
DTSTART:20311026T020000
RDATE:20320328T030000
TZOFFSETFROM:+0200
TZOFFSETTO:+0100
TZNAME:Europe/Prague CET
END:STANDARD
BEGIN:DAYLIGHT
DTSTART:20240331T030000
RDATE:20241027T020000
TZOFFSETFROM:+0100
TZOFFSETTO:+0200
TZNAME:Europe/Prague CEST
END:DAYLIGHT
BEGIN:DAYLIGHT
DTSTART:20250330T030000
RDATE:20251026T020000
TZOFFSETFROM:+0100
TZOFFSETTO:+0200
TZNAME:Europe/Prague CEST
END:DAYLIGHT
BEGIN:DAYLIGHT
DTSTART:20260329T030000
RDATE:20261025T020000
TZOFFSETFROM:+0100
TZOFFSETTO:+0200
TZNAME:Europe/Prague CEST
END:DAYLIGHT
BEGIN:DAYLIGHT
DTSTART:20270328T030000
RDATE:20271031T020000
TZOFFSETFROM:+0100
TZOFFSETTO:+0200
TZNAME:Europe/Prague CEST
END:DAYLIGHT
BEGIN:DAYLIGHT
DTSTART:20280326T030000
RDATE:20281029T020000
TZOFFSETFROM:+0100
TZOFFSETTO:+0200
TZNAME:Europe/Prague CEST
END:DAYLIGHT
BEGIN:DAYLIGHT
DTSTART:20290325T030000
RDATE:20291028T020000
TZOFFSETFROM:+0100
TZOFFSETTO:+0200
TZNAME:Europe/Prague CEST
END:DAYLIGHT
BEGIN:DAYLIGHT
DTSTART:20300331T030000
RDATE:20301027T020000
TZOFFSETFROM:+0100
TZOFFSETTO:+0200
TZNAME:Europe/Prague CEST
END:DAYLIGHT
BEGIN:DAYLIGHT
DTSTART:20310330T030000
RDATE:20311026T020000
TZOFFSETFROM:+0100
TZOFFSETTO:+0200
TZNAME:Europe/Prague CEST
END:DAYLIGHT
END:VTIMEZONE
BEGIN:VEVENT
UID:e93478d37584215c59c4f5af3d8f7c50
CATEGORIES:Sales Exhibitions, Lectures
CREATED:20240321T163417
SUMMARY:Frankfurt Entomological Exchange
LOCATION:Frankfurt am Main\, Germany
DESCRIPTION:International Insect Exchange Frankfurt\n11/2/2024 12:00 p.m. - 6:00 p.m. -
  11/3/2024 9:00 a.m. - 2:00 p.m\nTitusforum of the Northwest Center (Walter
 -Möller-Platz 2, 60439 Frankfurt am Main)\nParking spaces are located in th
 is shopping arcade. To find your car, remember the number and color of the 
 parking space\nFurther information (e.g. stock exchange regulations) can be
  found here: Entomologischer Verein Apollo e. V. | Insektenbörse (apollo-fr
 ankfurt.de) (http://www.apollo-frankfurt.de/de/events/index.html)\n
X-ALT-DESC;FMTTYPE=text/html:<p>International Insect Exchange Frankfurt</p><p>11/2/2024 12:00 p.m. - 6:0
 0 p.m. - 11/3/2024 9:00 a.m. - 2:00 p.m</p><p>Titusforum of the Northwest C
 enter (Walter-Möller-Platz 2, 60439 Frankfurt am Main)</p><p>Parking spaces
  are located in this shopping arcade. To find your car, remember the number
  and color of the parking space</p><p>Further information (e.g. stock excha
 nge regulations) can be found here: <a href="http://www.apollo-frankfurt.de
 /de/events/index.html" target="_blank" rel="nofollow noopener noreferrer ug
 c" class="externalURL">Entomologischer Verein Apollo e. V. | Insektenbörse 
 (apollo-frankfurt.de)</a></p>
CONTACT:Svenja Klein, phone: +49 (0) 6409 66 29 03, email: 124.itb[at]apollo-frankfurt[dot]de
DTSTAMP:20260420T021843
DTSTART;TZID=Europe/Prague:20241102T120000
DTEND;TZID=Europe/Prague:20241103T140000
SEQUENCE:0
TRANSP:OPAQUE
END:VEVENT
END:VCALENDAR