BEGIN:VCALENDAR
VERSION:2.0
PRODID:-//jEvents 2.0 for Joomla//EN
CALSCALE:GREGORIAN
METHOD:PUBLISH
BEGIN:VTIMEZONE
TZID:Europe/Prague
BEGIN:STANDARD
DTSTART:20231029T020000
RDATE:20240331T030000
TZOFFSETFROM:+0200
TZOFFSETTO:+0100
TZNAME:Europe/Prague CET
END:STANDARD
BEGIN:STANDARD
DTSTART:20241027T020000
RDATE:20250330T030000
TZOFFSETFROM:+0200
TZOFFSETTO:+0100
TZNAME:Europe/Prague CET
END:STANDARD
BEGIN:STANDARD
DTSTART:20251026T020000
RDATE:20260329T030000
TZOFFSETFROM:+0200
TZOFFSETTO:+0100
TZNAME:Europe/Prague CET
END:STANDARD
BEGIN:STANDARD
DTSTART:20261025T020000
RDATE:20270328T030000
TZOFFSETFROM:+0200
TZOFFSETTO:+0100
TZNAME:Europe/Prague CET
END:STANDARD
BEGIN:STANDARD
DTSTART:20271031T020000
RDATE:20280326T030000
TZOFFSETFROM:+0200
TZOFFSETTO:+0100
TZNAME:Europe/Prague CET
END:STANDARD
BEGIN:STANDARD
DTSTART:20281029T020000
RDATE:20290325T030000
TZOFFSETFROM:+0200
TZOFFSETTO:+0100
TZNAME:Europe/Prague CET
END:STANDARD
BEGIN:STANDARD
DTSTART:20291028T020000
RDATE:20300331T030000
TZOFFSETFROM:+0200
TZOFFSETTO:+0100
TZNAME:Europe/Prague CET
END:STANDARD
BEGIN:STANDARD
DTSTART:20301027T020000
RDATE:20310330T030000
TZOFFSETFROM:+0200
TZOFFSETTO:+0100
TZNAME:Europe/Prague CET
END:STANDARD
BEGIN:STANDARD
DTSTART:20311026T020000
RDATE:20320328T030000
TZOFFSETFROM:+0200
TZOFFSETTO:+0100
TZNAME:Europe/Prague CET
END:STANDARD
BEGIN:DAYLIGHT
DTSTART:20230831T000000
RDATE:20231029T020000
TZOFFSETFROM:+0100
TZOFFSETTO:+0200
TZNAME:Europe/Prague CEST
END:DAYLIGHT
BEGIN:DAYLIGHT
DTSTART:20240331T030000
RDATE:20241027T020000
TZOFFSETFROM:+0100
TZOFFSETTO:+0200
TZNAME:Europe/Prague CEST
END:DAYLIGHT
BEGIN:DAYLIGHT
DTSTART:20250330T030000
RDATE:20251026T020000
TZOFFSETFROM:+0100
TZOFFSETTO:+0200
TZNAME:Europe/Prague CEST
END:DAYLIGHT
BEGIN:DAYLIGHT
DTSTART:20260329T030000
RDATE:20261025T020000
TZOFFSETFROM:+0100
TZOFFSETTO:+0200
TZNAME:Europe/Prague CEST
END:DAYLIGHT
BEGIN:DAYLIGHT
DTSTART:20270328T030000
RDATE:20271031T020000
TZOFFSETFROM:+0100
TZOFFSETTO:+0200
TZNAME:Europe/Prague CEST
END:DAYLIGHT
BEGIN:DAYLIGHT
DTSTART:20280326T030000
RDATE:20281029T020000
TZOFFSETFROM:+0100
TZOFFSETTO:+0200
TZNAME:Europe/Prague CEST
END:DAYLIGHT
BEGIN:DAYLIGHT
DTSTART:20290325T030000
RDATE:20291028T020000
TZOFFSETFROM:+0100
TZOFFSETTO:+0200
TZNAME:Europe/Prague CEST
END:DAYLIGHT
BEGIN:DAYLIGHT
DTSTART:20300331T030000
RDATE:20301027T020000
TZOFFSETFROM:+0100
TZOFFSETTO:+0200
TZNAME:Europe/Prague CEST
END:DAYLIGHT
BEGIN:DAYLIGHT
DTSTART:20310330T030000
RDATE:20311026T020000
TZOFFSETFROM:+0100
TZOFFSETTO:+0200
TZNAME:Europe/Prague CEST
END:DAYLIGHT
END:VTIMEZONE
BEGIN:VEVENT
UID:e6bd1f491f963f5739c397977a4aacc3
CATEGORIES:Excursions
CREATED:20240321T165408
SUMMARY:Entomological excursion Srbsko-Karlštejn
LOCATION:Srbsko - Karlštejn\, Czech Republic
DESCRIPTION:During the excursion, we will observe various interesting autumn insects, d
 iurnal butterflies and, depending on the current possibilities, also aquati
 c invertebrates.\nThe route will lead from Karlštejn past the Oak of the Se
 ven Brothers, through grassy forest-steppe biotopes, past Karlova studánka 
 to Serbia. We expect finds of interesting invertebrates everywhere.\nThe le
 ngth of the route is approximately 7 km. From Serbia, it is possible to con
 tinue the trip independently or take the train home.\nTake with you not onl
 y the usual equipment (a large snack and good shoes), but also perhaps a ma
 gnifying glass or an entomological net.\nExcursion participants who often g
 o to nature, observe different types of plants or animals and are intereste
 d in "mapping nature" can learn about the BioLog project here and practical
  experience using the application of the same name, which was created for t
 hose interested in nature and serves as a digital notebook observation of f
 auna and flora in the territory of the Czech Republic.\nPetr Heřman from th
 e Society for the Protection of Butterflies and Lucie Hrůzová, zoologist fr
 om the CHKO Český kras, will guide you through the excursion.\nAny more det
 ailed questions on phone: 731 682 306 or at This email address is being pro
 tected from spambots. You need JavaScript enabled to view it.\nThe excursio
 n is free, there is no need to register, just come.\n
X-ALT-DESC;FMTTYPE=text/html:<p>During the excursion, we will observe various interesting autumn insects
 , diurnal butterflies and, depending on the current possibilities, also aqu
 atic invertebrates.</p><p>The route will lead from Karlštejn past the Oak o
 f the Seven Brothers, through grassy forest-steppe biotopes, past Karlova s
 tudánka to Serbia. We expect finds of interesting invertebrates everywhere.
 </p><p>The length of the route is approximately 7 km. From Serbia, it is po
 ssible to continue the trip independently or take the train home.</p><p>Tak
 e with you not only the usual equipment (a large snack and good shoes), but
  also perhaps a magnifying glass or an entomological net.</p><p>Excursion p
 articipants who often go to nature, observe different types of plants or an
 imals and are interested in "mapping nature" can learn about the BioLog pro
 ject here and practical experience using the application of the same name, 
 which was created for those interested in nature and serves as a digital no
 tebook observation of fauna and flora in the territory of the Czech Republi
 c.</p><p>Petr Heřman from the Society for the Protection of Butterflies and
  Lucie Hrůzová, zoologist from the CHKO Český kras, will guide you through 
 the excursion.</p><p>Any more detailed questions on phone: 731 682 306 or a
 t <joomla-hidden-mail  is-link="" is-email="1" first="bHVjaWUuaHJ1em92YQ=="
  last="bmF0dXJlLmN6" text="bHVjaWUuaHJ1em92YUBuYXR1cmUuY3o=" base="" >This 
 email address is being protected from spambots. You need JavaScript enabled
  to view it.</joomla-hidden-mail></p><p>The excursion is free, there is no 
 need to register, just come.</p>
CONTACT:AOPK, Lucie Hrůzová, mobil: 731 682 306, e-mail: This email address is being protected from spambots. You need JavaScript enabled to view it.
DTSTAMP:20260420T021852
DTSTART;TZID=Europe/Prague;VALUE=DATE:20240831
DTEND;TZID=Europe/Prague;VALUE=DATE:20240901
SEQUENCE:0
TRANSP:OPAQUE
END:VEVENT
END:VCALENDAR