BEGIN:VCALENDAR
VERSION:2.0
PRODID:-//jEvents 2.0 for Joomla//EN
CALSCALE:GREGORIAN
METHOD:PUBLISH
BEGIN:VTIMEZONE
TZID:Europe/Prague
BEGIN:STANDARD
DTSTART:20231029T020000
RDATE:20240331T030000
TZOFFSETFROM:+0200
TZOFFSETTO:+0100
TZNAME:Europe/Prague CET
END:STANDARD
BEGIN:STANDARD
DTSTART:20241027T020000
RDATE:20250330T030000
TZOFFSETFROM:+0200
TZOFFSETTO:+0100
TZNAME:Europe/Prague CET
END:STANDARD
BEGIN:STANDARD
DTSTART:20251026T020000
RDATE:20260329T030000
TZOFFSETFROM:+0200
TZOFFSETTO:+0100
TZNAME:Europe/Prague CET
END:STANDARD
BEGIN:STANDARD
DTSTART:20261025T020000
RDATE:20270328T030000
TZOFFSETFROM:+0200
TZOFFSETTO:+0100
TZNAME:Europe/Prague CET
END:STANDARD
BEGIN:STANDARD
DTSTART:20271031T020000
RDATE:20280326T030000
TZOFFSETFROM:+0200
TZOFFSETTO:+0100
TZNAME:Europe/Prague CET
END:STANDARD
BEGIN:STANDARD
DTSTART:20281029T020000
RDATE:20290325T030000
TZOFFSETFROM:+0200
TZOFFSETTO:+0100
TZNAME:Europe/Prague CET
END:STANDARD
BEGIN:STANDARD
DTSTART:20291028T020000
RDATE:20300331T030000
TZOFFSETFROM:+0200
TZOFFSETTO:+0100
TZNAME:Europe/Prague CET
END:STANDARD
BEGIN:STANDARD
DTSTART:20301027T020000
RDATE:20310330T030000
TZOFFSETFROM:+0200
TZOFFSETTO:+0100
TZNAME:Europe/Prague CET
END:STANDARD
BEGIN:STANDARD
DTSTART:20311026T020000
RDATE:20320328T030000
TZOFFSETFROM:+0200
TZOFFSETTO:+0100
TZNAME:Europe/Prague CET
END:STANDARD
BEGIN:DAYLIGHT
DTSTART:20230825T000000
RDATE:20231029T020000
TZOFFSETFROM:+0100
TZOFFSETTO:+0200
TZNAME:Europe/Prague CEST
END:DAYLIGHT
BEGIN:DAYLIGHT
DTSTART:20240331T030000
RDATE:20241027T020000
TZOFFSETFROM:+0100
TZOFFSETTO:+0200
TZNAME:Europe/Prague CEST
END:DAYLIGHT
BEGIN:DAYLIGHT
DTSTART:20250330T030000
RDATE:20251026T020000
TZOFFSETFROM:+0100
TZOFFSETTO:+0200
TZNAME:Europe/Prague CEST
END:DAYLIGHT
BEGIN:DAYLIGHT
DTSTART:20260329T030000
RDATE:20261025T020000
TZOFFSETFROM:+0100
TZOFFSETTO:+0200
TZNAME:Europe/Prague CEST
END:DAYLIGHT
BEGIN:DAYLIGHT
DTSTART:20270328T030000
RDATE:20271031T020000
TZOFFSETFROM:+0100
TZOFFSETTO:+0200
TZNAME:Europe/Prague CEST
END:DAYLIGHT
BEGIN:DAYLIGHT
DTSTART:20280326T030000
RDATE:20281029T020000
TZOFFSETFROM:+0100
TZOFFSETTO:+0200
TZNAME:Europe/Prague CEST
END:DAYLIGHT
BEGIN:DAYLIGHT
DTSTART:20290325T030000
RDATE:20291028T020000
TZOFFSETFROM:+0100
TZOFFSETTO:+0200
TZNAME:Europe/Prague CEST
END:DAYLIGHT
BEGIN:DAYLIGHT
DTSTART:20300331T030000
RDATE:20301027T020000
TZOFFSETFROM:+0100
TZOFFSETTO:+0200
TZNAME:Europe/Prague CEST
END:DAYLIGHT
BEGIN:DAYLIGHT
DTSTART:20310330T030000
RDATE:20311026T020000
TZOFFSETFROM:+0100
TZOFFSETTO:+0200
TZNAME:Europe/Prague CEST
END:DAYLIGHT
END:VTIMEZONE
BEGIN:VEVENT
UID:0a6cd7bc87c63164948e10151b0770bd
CATEGORIES:Conferences
CREATED:20240321T165907
SUMMARY:XXVII International Congress of Entomology
LOCATION:Kyoto\, Japonsko
DESCRIPTION:Since the first conference was held in Brussels, Belgium in 1910, it has be
 en held almost every four years, except during the turmoil of World War II.
  The first congress to be held in Asia, was the 16th ICE in Kyoto, Japan in
  1980. It has been decided that the 27th Congress will be held at the Kyoto
  International Conference Center from August 25th (Sun) to 30th (Fri), 2024
 , sponsored by the Japan Insect Science Association.\n​For more information
  and to register, visit the website:\nhttps://ice2024kyoto.jp/ (https://ice
 2024kyoto.jp/)\n
X-ALT-DESC;FMTTYPE=text/html:<div id="comp-kii4htat" class="c9GqVL QxJLC3 comp-kii4htat wixui-rich-text"
  data-testid="richTextElement"><p class="font_8 wixui-rich-text__text"><spa
 n class="wixui-rich-text__text">Since the first conference was held in Brus
 sels, Belgium in 1910, it has been held almost every four years, except dur
 ing the turmoil of World War II. The first congress to be held in Asia, was
  the 16th ICE in Kyoto, Japan in 1980. It has been decided that the 27th Co
 ngress will be held at the Kyoto International Conference Center from Augus
 t 25th (Sun) to 30th (Fri), 2024, sponsored by the Japan Insect Science Ass
 ociation.</span></p><p class="font_8 wixui-rich-text__text"><span class="wi
 xui-rich-text__text"><span class="wixGuard wixui-rich-text__text">​</span>F
 or more information and to register, visit the website:</span></p><p class=
 "font_8 wixui-rich-text__text"><span class="wixui-rich-text__text"><span cl
 ass="wixui-rich-text__text"><a href="https://ice2024kyoto.jp/">https://ice2
 024kyoto.jp/</a></span></span></p></div>
CONTACT:https://ice2024kyoto.jp/
DTSTAMP:20260420T021947
DTSTART;TZID=Europe/Prague;VALUE=DATE:20240825
DTEND;TZID=Europe/Prague;VALUE=DATE:20240831
SEQUENCE:0
TRANSP:OPAQUE
END:VEVENT
END:VCALENDAR