BEGIN:VCALENDAR
VERSION:2.0
PRODID:-//jEvents 2.0 for Joomla//EN
CALSCALE:GREGORIAN
METHOD:PUBLISH
BEGIN:VTIMEZONE
TZID:Europe/Prague
BEGIN:STANDARD
DTSTART:20231029T020000
RDATE:20240331T030000
TZOFFSETFROM:+0200
TZOFFSETTO:+0100
TZNAME:Europe/Prague CET
END:STANDARD
BEGIN:STANDARD
DTSTART:20241027T020000
RDATE:20250330T030000
TZOFFSETFROM:+0200
TZOFFSETTO:+0100
TZNAME:Europe/Prague CET
END:STANDARD
BEGIN:STANDARD
DTSTART:20251026T020000
RDATE:20260329T030000
TZOFFSETFROM:+0200
TZOFFSETTO:+0100
TZNAME:Europe/Prague CET
END:STANDARD
BEGIN:STANDARD
DTSTART:20261025T020000
RDATE:20270328T030000
TZOFFSETFROM:+0200
TZOFFSETTO:+0100
TZNAME:Europe/Prague CET
END:STANDARD
BEGIN:STANDARD
DTSTART:20271031T020000
RDATE:20280326T030000
TZOFFSETFROM:+0200
TZOFFSETTO:+0100
TZNAME:Europe/Prague CET
END:STANDARD
BEGIN:STANDARD
DTSTART:20281029T020000
RDATE:20290325T030000
TZOFFSETFROM:+0200
TZOFFSETTO:+0100
TZNAME:Europe/Prague CET
END:STANDARD
BEGIN:STANDARD
DTSTART:20291028T020000
RDATE:20300331T030000
TZOFFSETFROM:+0200
TZOFFSETTO:+0100
TZNAME:Europe/Prague CET
END:STANDARD
BEGIN:STANDARD
DTSTART:20301027T020000
RDATE:20310330T030000
TZOFFSETFROM:+0200
TZOFFSETTO:+0100
TZNAME:Europe/Prague CET
END:STANDARD
BEGIN:STANDARD
DTSTART:20311026T020000
RDATE:20320328T030000
TZOFFSETFROM:+0200
TZOFFSETTO:+0100
TZNAME:Europe/Prague CET
END:STANDARD
BEGIN:DAYLIGHT
DTSTART:20230804T000000
RDATE:20231029T020000
TZOFFSETFROM:+0100
TZOFFSETTO:+0200
TZNAME:Europe/Prague CEST
END:DAYLIGHT
BEGIN:DAYLIGHT
DTSTART:20240331T030000
RDATE:20241027T020000
TZOFFSETFROM:+0100
TZOFFSETTO:+0200
TZNAME:Europe/Prague CEST
END:DAYLIGHT
BEGIN:DAYLIGHT
DTSTART:20250330T030000
RDATE:20251026T020000
TZOFFSETFROM:+0100
TZOFFSETTO:+0200
TZNAME:Europe/Prague CEST
END:DAYLIGHT
BEGIN:DAYLIGHT
DTSTART:20260329T030000
RDATE:20261025T020000
TZOFFSETFROM:+0100
TZOFFSETTO:+0200
TZNAME:Europe/Prague CEST
END:DAYLIGHT
BEGIN:DAYLIGHT
DTSTART:20270328T030000
RDATE:20271031T020000
TZOFFSETFROM:+0100
TZOFFSETTO:+0200
TZNAME:Europe/Prague CEST
END:DAYLIGHT
BEGIN:DAYLIGHT
DTSTART:20280326T030000
RDATE:20281029T020000
TZOFFSETFROM:+0100
TZOFFSETTO:+0200
TZNAME:Europe/Prague CEST
END:DAYLIGHT
BEGIN:DAYLIGHT
DTSTART:20290325T030000
RDATE:20291028T020000
TZOFFSETFROM:+0100
TZOFFSETTO:+0200
TZNAME:Europe/Prague CEST
END:DAYLIGHT
BEGIN:DAYLIGHT
DTSTART:20300331T030000
RDATE:20301027T020000
TZOFFSETFROM:+0100
TZOFFSETTO:+0200
TZNAME:Europe/Prague CEST
END:DAYLIGHT
BEGIN:DAYLIGHT
DTSTART:20310330T030000
RDATE:20311026T020000
TZOFFSETFROM:+0100
TZOFFSETTO:+0200
TZNAME:Europe/Prague CEST
END:DAYLIGHT
END:VTIMEZONE
BEGIN:VEVENT
UID:6d7e0d05844a539733bc019c97a7b1f6
CATEGORIES:Conferences
CREATED:20240321T170958
SUMMARY:Symposium on Insect-Plant relationships
LOCATION:Bielefeld\, Německo
DESCRIPTION:<p><a href="https://www.uni-bielefeld.de/fakultaeten/biologie/forschung/ver
 anstaltungen/sip2024/index.xml">https://www.uni-bielefeld.de/fakultaeten/bi
 ologie/forschung/veranstaltungen/sip2024/index.xml</a></p><p>We are honoure
 d to host the 18th Symposium on Insect-Plant relationships in Bielefeld fro
 m 4th to 8th of August 2024.<br /><br />The Symposium on Insect-Plant relat
 ionships has a long tradition, is held every three years and deals with var
 ious aspects of insect-plant interactions, extending also to other interact
 ion partners. We expect an international audience of up to 270 people. We w
 ill provide sufficient time slots to present your research as an oral prese
 ntation or poster. The conference will be held at the foot of the Teutoburg
  forest in “Haus Neuland” and will offer cheaper group accommodation direct
 ly at the site as well as hotel rooms in proximity. Please make sure to reg
 ularly check for updates on plenary speakers, registration and other inform
 ation.<br /><br />We are looking forward to meeting you in Bielefeld!<br />
 <br />The organising committee<br /><br />Caroline Müller, Rabea Schweiger 
 and Christine Fiebig</p>
CONTACT:This email address is being protected from spambots. You need JavaScript enabled to view it.
DTSTAMP:20260420T022823
DTSTART;TZID=Europe/Prague;VALUE=DATE:20240804
DTEND;TZID=Europe/Prague;VALUE=DATE:20240809
SEQUENCE:0
TRANSP:OPAQUE
END:VEVENT
END:VCALENDAR