BEGIN:VCALENDAR
VERSION:2.0
PRODID:-//jEvents 2.0 for Joomla//EN
CALSCALE:GREGORIAN
METHOD:PUBLISH
BEGIN:VTIMEZONE
TZID:Europe/Prague
BEGIN:STANDARD
DTSTART:20230325T000000
RDATE:20230326T030000
TZOFFSETFROM:+0200
TZOFFSETTO:+0100
TZNAME:Europe/Prague CET
END:STANDARD
BEGIN:STANDARD
DTSTART:20231029T020000
RDATE:20240331T030000
TZOFFSETFROM:+0200
TZOFFSETTO:+0100
TZNAME:Europe/Prague CET
END:STANDARD
BEGIN:STANDARD
DTSTART:20241027T020000
RDATE:20250330T030000
TZOFFSETFROM:+0200
TZOFFSETTO:+0100
TZNAME:Europe/Prague CET
END:STANDARD
BEGIN:STANDARD
DTSTART:20251026T020000
RDATE:20260329T030000
TZOFFSETFROM:+0200
TZOFFSETTO:+0100
TZNAME:Europe/Prague CET
END:STANDARD
BEGIN:STANDARD
DTSTART:20261025T020000
RDATE:20270328T030000
TZOFFSETFROM:+0200
TZOFFSETTO:+0100
TZNAME:Europe/Prague CET
END:STANDARD
BEGIN:STANDARD
DTSTART:20271031T020000
RDATE:20280326T030000
TZOFFSETFROM:+0200
TZOFFSETTO:+0100
TZNAME:Europe/Prague CET
END:STANDARD
BEGIN:STANDARD
DTSTART:20281029T020000
RDATE:20290325T030000
TZOFFSETFROM:+0200
TZOFFSETTO:+0100
TZNAME:Europe/Prague CET
END:STANDARD
BEGIN:STANDARD
DTSTART:20291028T020000
RDATE:20300331T030000
TZOFFSETFROM:+0200
TZOFFSETTO:+0100
TZNAME:Europe/Prague CET
END:STANDARD
BEGIN:STANDARD
DTSTART:20301027T020000
RDATE:20310330T030000
TZOFFSETFROM:+0200
TZOFFSETTO:+0100
TZNAME:Europe/Prague CET
END:STANDARD
BEGIN:STANDARD
DTSTART:20311026T020000
RDATE:20320328T030000
TZOFFSETFROM:+0200
TZOFFSETTO:+0100
TZNAME:Europe/Prague CET
END:STANDARD
BEGIN:DAYLIGHT
DTSTART:20230326T030000
RDATE:20231029T020000
TZOFFSETFROM:+0100
TZOFFSETTO:+0200
TZNAME:Europe/Prague CEST
END:DAYLIGHT
BEGIN:DAYLIGHT
DTSTART:20240331T030000
RDATE:20241027T020000
TZOFFSETFROM:+0100
TZOFFSETTO:+0200
TZNAME:Europe/Prague CEST
END:DAYLIGHT
BEGIN:DAYLIGHT
DTSTART:20250330T030000
RDATE:20251026T020000
TZOFFSETFROM:+0100
TZOFFSETTO:+0200
TZNAME:Europe/Prague CEST
END:DAYLIGHT
BEGIN:DAYLIGHT
DTSTART:20260329T030000
RDATE:20261025T020000
TZOFFSETFROM:+0100
TZOFFSETTO:+0200
TZNAME:Europe/Prague CEST
END:DAYLIGHT
BEGIN:DAYLIGHT
DTSTART:20270328T030000
RDATE:20271031T020000
TZOFFSETFROM:+0100
TZOFFSETTO:+0200
TZNAME:Europe/Prague CEST
END:DAYLIGHT
BEGIN:DAYLIGHT
DTSTART:20280326T030000
RDATE:20281029T020000
TZOFFSETFROM:+0100
TZOFFSETTO:+0200
TZNAME:Europe/Prague CEST
END:DAYLIGHT
BEGIN:DAYLIGHT
DTSTART:20290325T030000
RDATE:20291028T020000
TZOFFSETFROM:+0100
TZOFFSETTO:+0200
TZNAME:Europe/Prague CEST
END:DAYLIGHT
BEGIN:DAYLIGHT
DTSTART:20300331T030000
RDATE:20301027T020000
TZOFFSETFROM:+0100
TZOFFSETTO:+0200
TZNAME:Europe/Prague CEST
END:DAYLIGHT
BEGIN:DAYLIGHT
DTSTART:20310330T030000
RDATE:20311026T020000
TZOFFSETFROM:+0100
TZOFFSETTO:+0200
TZNAME:Europe/Prague CEST
END:DAYLIGHT
END:VTIMEZONE
BEGIN:VEVENT
UID:1f5eeaf75ad94bf8b3cd99297e216931
CATEGORIES:Conferences
CREATED:20240321T172202
SUMMARY:ICAE 2024: 18. International Conference on Agricultural Entomology
LOCATION:Brussel\, Belgium
DESCRIPTION:The International Research Conference is a federated organization dedicated
  to bringing together a significant number of diverse scholarly events for 
 presentation within the conference program (https://waset.org/conferences-i
 n-march-2024-in-brussels/program#engineering-and-physical-sciences-research
 ). Events will run over a span of time during the conference depending on t
 he number and length of the presentations. With its high quality, it provid
 es an exceptional value for students, academics and industry researchers.\n
 International Conference on Agricultural Entomology aims to bring together 
 leading academic scientists, researchers and research scholars to exchange 
 and share their experiences and research results on all aspects of Agricult
 ural Entomology. It also provides a premier interdisciplinary platform for 
 researchers, practitioners and educators to present and discuss the most re
 cent innovations, trends, and concerns as well as practical challenges enco
 untered and solutions adopted in the fields of Agricultural Entomology.\nLi
 nk: https://waset.org/agricultural-entomology-conference-in-march-2024-in-b
 russels (https://waset.org/agricultural-entomology-conference-in-march-2024
 -in-brussels)\n
X-ALT-DESC;FMTTYPE=text/html:<p>The International Research Conference is a federated organization dedica
 ted to bringing together a significant number of diverse scholarly events f
 or presentation within the <a href="https://waset.org/conferences-in-march-
 2024-in-brussels/program#engineering-and-physical-sciences-research" target
 ="_blank" rel="noopener" title="March 2024 in Brussels Conference Program">
 conference program</a>. Events will run over a span of time during the conf
 erence depending on the number and length of the presentations. With its hi
 gh quality, it provides an exceptional value for students, academics and in
 dustry researchers.</p><p><strong>International Conference on Agricultural 
 Entomology</strong> aims to bring together leading academic scientists, res
 earchers and research scholars to exchange and share their experiences and 
 research results on all aspects of Agricultural Entomology. It also provide
 s a premier interdisciplinary platform for researchers, practitioners and e
 ducators to present and discuss the most recent innovations, trends, and co
 ncerns as well as practical challenges encountered and solutions adopted in
  the fields of Agricultural Entomology.</p><p>Link: <a href="https://waset.
 org/agricultural-entomology-conference-in-march-2024-in-brussels">https://w
 aset.org/agricultural-entomology-conference-in-march-2024-in-brussels</a></
 p>
CONTACT:https://waset.org/agricultural-entomology-conference-in-march-2024-in-brussels
DTSTAMP:20260420T001133
DTSTART;TZID=Europe/Prague;VALUE=DATE:20240325
DTEND;TZID=Europe/Prague;VALUE=DATE:20240327
SEQUENCE:0
TRANSP:OPAQUE
END:VEVENT
END:VCALENDAR