BEGIN:VCALENDAR
VERSION:2.0
PRODID:-//jEvents 2.0 for Joomla//EN
CALSCALE:GREGORIAN
METHOD:PUBLISH
BEGIN:VTIMEZONE
TZID:Europe/Prague
BEGIN:STANDARD
DTSTART:20230301T110000
RDATE:20230326T030000
TZOFFSETFROM:+0200
TZOFFSETTO:+0100
TZNAME:Europe/Prague CET
END:STANDARD
BEGIN:STANDARD
DTSTART:20231029T020000
RDATE:20240331T030000
TZOFFSETFROM:+0200
TZOFFSETTO:+0100
TZNAME:Europe/Prague CET
END:STANDARD
BEGIN:STANDARD
DTSTART:20241027T020000
RDATE:20250330T030000
TZOFFSETFROM:+0200
TZOFFSETTO:+0100
TZNAME:Europe/Prague CET
END:STANDARD
BEGIN:STANDARD
DTSTART:20251026T020000
RDATE:20260329T030000
TZOFFSETFROM:+0200
TZOFFSETTO:+0100
TZNAME:Europe/Prague CET
END:STANDARD
BEGIN:STANDARD
DTSTART:20261025T020000
RDATE:20270328T030000
TZOFFSETFROM:+0200
TZOFFSETTO:+0100
TZNAME:Europe/Prague CET
END:STANDARD
BEGIN:STANDARD
DTSTART:20271031T020000
RDATE:20280326T030000
TZOFFSETFROM:+0200
TZOFFSETTO:+0100
TZNAME:Europe/Prague CET
END:STANDARD
BEGIN:STANDARD
DTSTART:20281029T020000
RDATE:20290325T030000
TZOFFSETFROM:+0200
TZOFFSETTO:+0100
TZNAME:Europe/Prague CET
END:STANDARD
BEGIN:STANDARD
DTSTART:20291028T020000
RDATE:20300331T030000
TZOFFSETFROM:+0200
TZOFFSETTO:+0100
TZNAME:Europe/Prague CET
END:STANDARD
BEGIN:STANDARD
DTSTART:20301027T020000
RDATE:20310330T030000
TZOFFSETFROM:+0200
TZOFFSETTO:+0100
TZNAME:Europe/Prague CET
END:STANDARD
BEGIN:STANDARD
DTSTART:20311026T020000
RDATE:20320328T030000
TZOFFSETFROM:+0200
TZOFFSETTO:+0100
TZNAME:Europe/Prague CET
END:STANDARD
BEGIN:DAYLIGHT
DTSTART:20230326T030000
RDATE:20231029T020000
TZOFFSETFROM:+0100
TZOFFSETTO:+0200
TZNAME:Europe/Prague CEST
END:DAYLIGHT
BEGIN:DAYLIGHT
DTSTART:20240331T030000
RDATE:20241027T020000
TZOFFSETFROM:+0100
TZOFFSETTO:+0200
TZNAME:Europe/Prague CEST
END:DAYLIGHT
BEGIN:DAYLIGHT
DTSTART:20250330T030000
RDATE:20251026T020000
TZOFFSETFROM:+0100
TZOFFSETTO:+0200
TZNAME:Europe/Prague CEST
END:DAYLIGHT
BEGIN:DAYLIGHT
DTSTART:20260329T030000
RDATE:20261025T020000
TZOFFSETFROM:+0100
TZOFFSETTO:+0200
TZNAME:Europe/Prague CEST
END:DAYLIGHT
BEGIN:DAYLIGHT
DTSTART:20270328T030000
RDATE:20271031T020000
TZOFFSETFROM:+0100
TZOFFSETTO:+0200
TZNAME:Europe/Prague CEST
END:DAYLIGHT
BEGIN:DAYLIGHT
DTSTART:20280326T030000
RDATE:20281029T020000
TZOFFSETFROM:+0100
TZOFFSETTO:+0200
TZNAME:Europe/Prague CEST
END:DAYLIGHT
BEGIN:DAYLIGHT
DTSTART:20290325T030000
RDATE:20291028T020000
TZOFFSETFROM:+0100
TZOFFSETTO:+0200
TZNAME:Europe/Prague CEST
END:DAYLIGHT
BEGIN:DAYLIGHT
DTSTART:20300331T030000
RDATE:20301027T020000
TZOFFSETFROM:+0100
TZOFFSETTO:+0200
TZNAME:Europe/Prague CEST
END:DAYLIGHT
BEGIN:DAYLIGHT
DTSTART:20310330T030000
RDATE:20311026T020000
TZOFFSETFROM:+0100
TZOFFSETTO:+0200
TZNAME:Europe/Prague CEST
END:DAYLIGHT
END:VTIMEZONE
BEGIN:VEVENT
UID:e425936de887afa7070c7656ec1e6043
CATEGORIES:Sales Exhibitions, Exhibitions
CREATED:20240321T140634
SUMMARY:Sales exhibition of beetles and butterflies Prague
LOCATION:Prague\, Czech Republic
DESCRIPTION:Hotel Olympik Congress Tristar, U Sluncóvé 14A, Prague 8 - sales exhibition
  of beetles and butterflies, ENTOMOLOGICAL EXCHANGE DAYS AND EXHIBITION.\nF
 riday 1 March 2024 11 a.m. - 6 p.m., Saturday 2 March 2024 9 a.m. - 5 p.m.\
 nInformation: +420 604 670 861, Ing. Dan Čagánek, e-mail: This email addres
 s is being protected from spambots. You need JavaScript enabled to view it.
 ,  www.hobbypraha.cz (https://www.hobbypraha.cz/),  invitation (http://www.
 entosphinx.cz/img/cms/pdf/2024plak%C3%A1t%20ve%C5%99ejnost%20(1).jpg)\n
X-ALT-DESC;FMTTYPE=text/html:<p>Hotel Olympik Congress Tristar, U Sluncóvé 14A, Prague 8 - sales exhibit
 ion of beetles and butterflies, ENTOMOLOGICAL EXCHANGE DAYS AND EXHIBITION.
 </p><p>Friday 1 March 2024 11 a.m. - 6 p.m., Saturday 2 March 2024 9 a.m. -
  5 p.m.</p><p>Information: +420 604 670 861, Ing. Dan Čagánek, e-mail: <joo
 mla-hidden-mail  is-link="" is-email="1" first="ZGFuLmNhZ2FuZWs=" last="dGl
 zY2FsaS5jeg==" text="ZGFuLmNhZ2FuZWtAdGlzY2FsaS5jeg==" base="" >This email 
 address is being protected from spambots. You need JavaScript enabled to vi
 ew it.</joomla-hidden-mail>,&nbsp;<strong> <a href="https://www.hobbypraha.
 cz/">www.hobbypraha.cz</a>,&nbsp; <a href="http://www.entosphinx.cz/img/cms
 /pdf/2024plak%C3%A1t%20ve%C5%99ejnost%20(1).jpg">invitation</a></strong></p
 >
CONTACT:Ing.Dan Čagánek, mobil: +420 604 670 861, e-mail: This email address is being protected from spambots. You need JavaScript enabled to view it.,
DTSTAMP:20260420T001041
DTSTART;TZID=Europe/Prague:20240301T110000
DTEND;TZID=Europe/Prague:20240302T170000
SEQUENCE:0
TRANSP:OPAQUE
END:VEVENT
END:VCALENDAR