BEGIN:VCALENDAR
VERSION:2.0
PRODID:-//jEvents 2.0 for Joomla//EN
CALSCALE:GREGORIAN
METHOD:PUBLISH
BEGIN:VTIMEZONE
TZID:Europe/Prague
BEGIN:STANDARD
DTSTART:20231029T020000
RDATE:20240331T030000
TZOFFSETFROM:+0200
TZOFFSETTO:+0100
TZNAME:Europe/Prague CET
END:STANDARD
BEGIN:STANDARD
DTSTART:20241027T020000
RDATE:20250330T030000
TZOFFSETFROM:+0200
TZOFFSETTO:+0100
TZNAME:Europe/Prague CET
END:STANDARD
BEGIN:STANDARD
DTSTART:20251026T020000
RDATE:20260329T030000
TZOFFSETFROM:+0200
TZOFFSETTO:+0100
TZNAME:Europe/Prague CET
END:STANDARD
BEGIN:STANDARD
DTSTART:20261025T020000
RDATE:20270328T030000
TZOFFSETFROM:+0200
TZOFFSETTO:+0100
TZNAME:Europe/Prague CET
END:STANDARD
BEGIN:STANDARD
DTSTART:20271031T020000
RDATE:20280326T030000
TZOFFSETFROM:+0200
TZOFFSETTO:+0100
TZNAME:Europe/Prague CET
END:STANDARD
BEGIN:STANDARD
DTSTART:20281029T020000
RDATE:20290325T030000
TZOFFSETFROM:+0200
TZOFFSETTO:+0100
TZNAME:Europe/Prague CET
END:STANDARD
BEGIN:STANDARD
DTSTART:20291028T020000
RDATE:20300331T030000
TZOFFSETFROM:+0200
TZOFFSETTO:+0100
TZNAME:Europe/Prague CET
END:STANDARD
BEGIN:STANDARD
DTSTART:20301027T020000
RDATE:20310330T030000
TZOFFSETFROM:+0200
TZOFFSETTO:+0100
TZNAME:Europe/Prague CET
END:STANDARD
BEGIN:STANDARD
DTSTART:20311026T020000
RDATE:20320328T030000
TZOFFSETFROM:+0200
TZOFFSETTO:+0100
TZNAME:Europe/Prague CET
END:STANDARD
BEGIN:DAYLIGHT
DTSTART:20230608T000000
RDATE:20231029T020000
TZOFFSETFROM:+0100
TZOFFSETTO:+0200
TZNAME:Europe/Prague CEST
END:DAYLIGHT
BEGIN:DAYLIGHT
DTSTART:20240331T030000
RDATE:20241027T020000
TZOFFSETFROM:+0100
TZOFFSETTO:+0200
TZNAME:Europe/Prague CEST
END:DAYLIGHT
BEGIN:DAYLIGHT
DTSTART:20250330T030000
RDATE:20251026T020000
TZOFFSETFROM:+0100
TZOFFSETTO:+0200
TZNAME:Europe/Prague CEST
END:DAYLIGHT
BEGIN:DAYLIGHT
DTSTART:20260329T030000
RDATE:20261025T020000
TZOFFSETFROM:+0100
TZOFFSETTO:+0200
TZNAME:Europe/Prague CEST
END:DAYLIGHT
BEGIN:DAYLIGHT
DTSTART:20270328T030000
RDATE:20271031T020000
TZOFFSETFROM:+0100
TZOFFSETTO:+0200
TZNAME:Europe/Prague CEST
END:DAYLIGHT
BEGIN:DAYLIGHT
DTSTART:20280326T030000
RDATE:20281029T020000
TZOFFSETFROM:+0100
TZOFFSETTO:+0200
TZNAME:Europe/Prague CEST
END:DAYLIGHT
BEGIN:DAYLIGHT
DTSTART:20290325T030000
RDATE:20291028T020000
TZOFFSETFROM:+0100
TZOFFSETTO:+0200
TZNAME:Europe/Prague CEST
END:DAYLIGHT
BEGIN:DAYLIGHT
DTSTART:20300331T030000
RDATE:20301027T020000
TZOFFSETFROM:+0100
TZOFFSETTO:+0200
TZNAME:Europe/Prague CEST
END:DAYLIGHT
BEGIN:DAYLIGHT
DTSTART:20310330T030000
RDATE:20311026T020000
TZOFFSETFROM:+0100
TZOFFSETTO:+0200
TZNAME:Europe/Prague CEST
END:DAYLIGHT
END:VTIMEZONE
BEGIN:VEVENT
UID:11c7023ad30d2aec073d79de22d96ac1
CATEGORIES:Others
CREATED:20240321T193445
SUMMARY:T-EXPEDITION JESENIKY 2024
LOCATION:Jesenik\, Czech Republic
DESCRIPTION:In 2024, the Heritage Museum of Jeseníky, in cooperation with SVČ DUHA Jese
 ník, offers a popular research event for gifted and inquisitive students – 
 T-expedition Jeseníky. You can look forward to new experiences and friends,
  and of course also knowledge and skills. Before the expedition itself, tha
 nks to the online preparation, you will get to know your team and the purpo
 se that you will work on together on the expedition. You will gain the nece
 ssary insight into the field, which you will then use during the face-to-fa
 ce part. Your weekly research will end with a poster conference, where you 
 will have the opportunity to present the fruits of your work. And you will 
 even be able to try to publish an article, which you will then be able to b
 rag about, for example, at your graduation or university entrance exams.\nE
 ntomological Section\nHuman impact on biodiversity\nThis year, the entomolo
 gy section will focus more ecologically and will conduct research on change
 s in biodiversity in Jesenice, depending on the degree of influence on the 
 environment by human activity (existence). We will try to find out the diff
 erences in biodiversity at localities in the city, in the wild and possibly
  also in a significantly polluted environment. As a researcher, you will be
 come familiar with field entomology and learn to work with atlases and iden
 tification keys. You will be part of a team of people with similar interest
 s, so if you are interested in the environment, want to learn more about it
  in a broader context and think about the possibilities of improving the si
 tuation, sign up for our section!\nGuaranteed by: Ren of the Old\nExpert: M
 gr. Old Martin\nPedagogical support: Mgr. Lenka Küschnerová\nEnvironment: g
 oogle classroom; google meet\nIntended for researchers: 15 to 19 years (as 
 of June 8, 2024)\nNumber of seats: 8\n
X-ALT-DESC;FMTTYPE=text/html:<p>In 2024, the Heritage Museum of Jeseníky, in cooperation with SVČ DUHA J
 eseník, offers a popular research event for gifted and inquisitive students
  – T-expedition Jeseníky. You can look forward to new experiences and frien
 ds, and of course also knowledge and skills. Before the expedition itself, 
 thanks to the online preparation, you will get to know your team and the pu
 rpose that you will work on together on the expedition. You will gain the n
 ecessary insight into the field, which you will then use during the face-to
 -face part. Your weekly research will end with a poster conference, where y
 ou will have the opportunity to present the fruits of your work. And you wi
 ll even be able to try to publish an article, which you will then be able t
 o brag about, for example, at your graduation or university entrance exams.
 </p><p>Entomological Section</p><p>Human impact on biodiversity</p><p>This 
 year, the entomology section will focus more ecologically and will conduct 
 research on changes in biodiversity in Jesenice, depending on the degree of
  influence on the environment by human activity (existence). We will try to
  find out the differences in biodiversity at localities in the city, in the
  wild and possibly also in a significantly polluted environment. As a resea
 rcher, you will become familiar with field entomology and learn to work wit
 h atlases and identification keys. You will be part of a team of people wit
 h similar interests, so if you are interested in the environment, want to l
 earn more about it in a broader context and think about the possibilities o
 f improving the situation, sign up for our section!</p><p>Guaranteed by: Re
 n of the Old</p><p>Expert: Mgr. Old Martin</p><p>Pedagogical support: Mgr. 
 Lenka Küschnerová</p><p>Environment: google classroom; google meet</p><p>In
 tended for researchers: 15 to 19 years (as of June 8, 2024)</p><p>Number of
  seats: 8</p>
CONTACT:https://www.muzeumjesenik.cz/cz/vzdelavani/3-t-expedice.html
DTSTAMP:20260420T021853
DTSTART;TZID=Europe/Prague;VALUE=DATE:20240608
DTEND;TZID=Europe/Prague;VALUE=DATE:20240616
SEQUENCE:0
TRANSP:OPAQUE
END:VEVENT
END:VCALENDAR