BEGIN:VCALENDAR
VERSION:2.0
PRODID:-//jEvents 2.0 for Joomla//EN
CALSCALE:GREGORIAN
METHOD:PUBLISH
BEGIN:VTIMEZONE
TZID:Europe/Prague
BEGIN:STANDARD
DTSTART:20231123T090000
RDATE:20240331T030000
TZOFFSETFROM:+0200
TZOFFSETTO:+0100
TZNAME:Europe/Prague CET
END:STANDARD
BEGIN:STANDARD
DTSTART:20241027T020000
RDATE:20250330T030000
TZOFFSETFROM:+0200
TZOFFSETTO:+0100
TZNAME:Europe/Prague CET
END:STANDARD
BEGIN:STANDARD
DTSTART:20251026T020000
RDATE:20260329T030000
TZOFFSETFROM:+0200
TZOFFSETTO:+0100
TZNAME:Europe/Prague CET
END:STANDARD
BEGIN:STANDARD
DTSTART:20261025T020000
RDATE:20270328T030000
TZOFFSETFROM:+0200
TZOFFSETTO:+0100
TZNAME:Europe/Prague CET
END:STANDARD
BEGIN:STANDARD
DTSTART:20271031T020000
RDATE:20280326T030000
TZOFFSETFROM:+0200
TZOFFSETTO:+0100
TZNAME:Europe/Prague CET
END:STANDARD
BEGIN:STANDARD
DTSTART:20281029T020000
RDATE:20290325T030000
TZOFFSETFROM:+0200
TZOFFSETTO:+0100
TZNAME:Europe/Prague CET
END:STANDARD
BEGIN:STANDARD
DTSTART:20291028T020000
RDATE:20300331T030000
TZOFFSETFROM:+0200
TZOFFSETTO:+0100
TZNAME:Europe/Prague CET
END:STANDARD
BEGIN:STANDARD
DTSTART:20301027T020000
RDATE:20310330T030000
TZOFFSETFROM:+0200
TZOFFSETTO:+0100
TZNAME:Europe/Prague CET
END:STANDARD
BEGIN:STANDARD
DTSTART:20311026T020000
RDATE:20320328T030000
TZOFFSETFROM:+0200
TZOFFSETTO:+0100
TZNAME:Europe/Prague CET
END:STANDARD
BEGIN:DAYLIGHT
DTSTART:20240331T030000
RDATE:20241027T020000
TZOFFSETFROM:+0100
TZOFFSETTO:+0200
TZNAME:Europe/Prague CEST
END:DAYLIGHT
BEGIN:DAYLIGHT
DTSTART:20250330T030000
RDATE:20251026T020000
TZOFFSETFROM:+0100
TZOFFSETTO:+0200
TZNAME:Europe/Prague CEST
END:DAYLIGHT
BEGIN:DAYLIGHT
DTSTART:20260329T030000
RDATE:20261025T020000
TZOFFSETFROM:+0100
TZOFFSETTO:+0200
TZNAME:Europe/Prague CEST
END:DAYLIGHT
BEGIN:DAYLIGHT
DTSTART:20270328T030000
RDATE:20271031T020000
TZOFFSETFROM:+0100
TZOFFSETTO:+0200
TZNAME:Europe/Prague CEST
END:DAYLIGHT
BEGIN:DAYLIGHT
DTSTART:20280326T030000
RDATE:20281029T020000
TZOFFSETFROM:+0100
TZOFFSETTO:+0200
TZNAME:Europe/Prague CEST
END:DAYLIGHT
BEGIN:DAYLIGHT
DTSTART:20290325T030000
RDATE:20291028T020000
TZOFFSETFROM:+0100
TZOFFSETTO:+0200
TZNAME:Europe/Prague CEST
END:DAYLIGHT
BEGIN:DAYLIGHT
DTSTART:20300331T030000
RDATE:20301027T020000
TZOFFSETFROM:+0100
TZOFFSETTO:+0200
TZNAME:Europe/Prague CEST
END:DAYLIGHT
BEGIN:DAYLIGHT
DTSTART:20310330T030000
RDATE:20311026T020000
TZOFFSETFROM:+0100
TZOFFSETTO:+0200
TZNAME:Europe/Prague CEST
END:DAYLIGHT
END:VTIMEZONE
BEGIN:VEVENT
UID:ab9d9051009f137fae013ecbbd68d189
CATEGORIES:Sales Exhibitions
CREATED:20240325T073921
SUMMARY:Entomological Exchange in CeskeBudejovice
LOCATION:Ceske Budejovice\, Czech Republic
DESCRIPTION:Borek Social Hall near České Budějovice, Pražská 20. Entomological exchange
  (The Insect's exhibition - Die Insektenbörse) České Budějovice.\nInformati
 on on mobile: +420 720 685 088, pí Jaroslava Hančová,\n e-mail: This email 
 address is being protected from spambots. You need JavaScript enabled to vi
 ew it. \nFacebook:  (https://m.facebook.com/ENTOCB)https://m.facebook.com/E
 NTOCB (https://m.facebook.com/ENTOCB)\n
X-ALT-DESC;FMTTYPE=text/html:<p>Borek Social Hall near České Budějovice, Pražská 20. Entomological excha
 nge (The Insect's exhibition - Die Insektenbörse) České Budějovice.</p><p>I
 nformation on mobile: <strong>+420 720 685 088</strong>, pí Jaroslava Hančo
 vá,<br /> e-mail:&nbsp;<joomla-hidden-mail  is-link="" is-email="1" first="
 aGFuY292YWphcmth" last="ZW1haWwuY3o=" text="aGFuY292YWphcmthQGVtYWlsLmN6" b
 ase="" >This email address is being protected from spambots. You need JavaS
 cript enabled to view it.</joomla-hidden-mail>&nbsp;</p><p>Facebook: <a hre
 f="https://m.facebook.com/ENTOCB"></a><a href="https://m.facebook.com/ENTOC
 B">https://m.facebook.com/ENTOCB</a></p>
CONTACT:Jaroslava Hančová, mobil: +420 720 685 088, e-mail: This email address is being protected from spambots. You need JavaScript enabled to view it. 
DTSTAMP:20260420T021849
DTSTART;TZID=Europe/Prague:20241123T090000
DTEND;TZID=Europe/Prague:20241123T130000
SEQUENCE:0
TRANSP:OPAQUE
END:VEVENT
END:VCALENDAR