BEGIN:VCALENDAR
VERSION:2.0
PRODID:-//jEvents 2.0 for Joomla//EN
CALSCALE:GREGORIAN
METHOD:PUBLISH
BEGIN:VTIMEZONE
TZID:Europe/Prague
BEGIN:STANDARD
DTSTART:20230321T000000
RDATE:20230326T030000
TZOFFSETFROM:+0200
TZOFFSETTO:+0100
TZNAME:Europe/Prague CET
END:STANDARD
BEGIN:STANDARD
DTSTART:20231029T020000
RDATE:20240331T030000
TZOFFSETFROM:+0200
TZOFFSETTO:+0100
TZNAME:Europe/Prague CET
END:STANDARD
BEGIN:STANDARD
DTSTART:20241027T020000
RDATE:20250330T030000
TZOFFSETFROM:+0200
TZOFFSETTO:+0100
TZNAME:Europe/Prague CET
END:STANDARD
BEGIN:STANDARD
DTSTART:20251026T020000
RDATE:20260329T030000
TZOFFSETFROM:+0200
TZOFFSETTO:+0100
TZNAME:Europe/Prague CET
END:STANDARD
BEGIN:STANDARD
DTSTART:20261025T020000
RDATE:20270328T030000
TZOFFSETFROM:+0200
TZOFFSETTO:+0100
TZNAME:Europe/Prague CET
END:STANDARD
BEGIN:STANDARD
DTSTART:20271031T020000
RDATE:20280326T030000
TZOFFSETFROM:+0200
TZOFFSETTO:+0100
TZNAME:Europe/Prague CET
END:STANDARD
BEGIN:STANDARD
DTSTART:20281029T020000
RDATE:20290325T030000
TZOFFSETFROM:+0200
TZOFFSETTO:+0100
TZNAME:Europe/Prague CET
END:STANDARD
BEGIN:STANDARD
DTSTART:20291028T020000
RDATE:20300331T030000
TZOFFSETFROM:+0200
TZOFFSETTO:+0100
TZNAME:Europe/Prague CET
END:STANDARD
BEGIN:STANDARD
DTSTART:20301027T020000
RDATE:20310330T030000
TZOFFSETFROM:+0200
TZOFFSETTO:+0100
TZNAME:Europe/Prague CET
END:STANDARD
BEGIN:STANDARD
DTSTART:20311026T020000
RDATE:20320328T030000
TZOFFSETFROM:+0200
TZOFFSETTO:+0100
TZNAME:Europe/Prague CET
END:STANDARD
BEGIN:DAYLIGHT
DTSTART:20230326T030000
RDATE:20231029T020000
TZOFFSETFROM:+0100
TZOFFSETTO:+0200
TZNAME:Europe/Prague CEST
END:DAYLIGHT
BEGIN:DAYLIGHT
DTSTART:20240331T030000
RDATE:20241027T020000
TZOFFSETFROM:+0100
TZOFFSETTO:+0200
TZNAME:Europe/Prague CEST
END:DAYLIGHT
BEGIN:DAYLIGHT
DTSTART:20250330T030000
RDATE:20251026T020000
TZOFFSETFROM:+0100
TZOFFSETTO:+0200
TZNAME:Europe/Prague CEST
END:DAYLIGHT
BEGIN:DAYLIGHT
DTSTART:20260329T030000
RDATE:20261025T020000
TZOFFSETFROM:+0100
TZOFFSETTO:+0200
TZNAME:Europe/Prague CEST
END:DAYLIGHT
BEGIN:DAYLIGHT
DTSTART:20270328T030000
RDATE:20271031T020000
TZOFFSETFROM:+0100
TZOFFSETTO:+0200
TZNAME:Europe/Prague CEST
END:DAYLIGHT
BEGIN:DAYLIGHT
DTSTART:20280326T030000
RDATE:20281029T020000
TZOFFSETFROM:+0100
TZOFFSETTO:+0200
TZNAME:Europe/Prague CEST
END:DAYLIGHT
BEGIN:DAYLIGHT
DTSTART:20290325T030000
RDATE:20291028T020000
TZOFFSETFROM:+0100
TZOFFSETTO:+0200
TZNAME:Europe/Prague CEST
END:DAYLIGHT
BEGIN:DAYLIGHT
DTSTART:20300331T030000
RDATE:20301027T020000
TZOFFSETFROM:+0100
TZOFFSETTO:+0200
TZNAME:Europe/Prague CEST
END:DAYLIGHT
BEGIN:DAYLIGHT
DTSTART:20310330T030000
RDATE:20311026T020000
TZOFFSETFROM:+0100
TZOFFSETTO:+0200
TZNAME:Europe/Prague CEST
END:DAYLIGHT
END:VTIMEZONE
BEGIN:VEVENT
UID:ad4780f8fb5ad58ebf3174af31c633ba
CATEGORIES:Exhibitions
CREATED:20240325T074826
SUMMARY:Planet Prague
LOCATION:Prague\, Czech Republic
DESCRIPTION:<p>Location: Vyšehradská 51, Prague 2, Emmaus Monastery Complex</p><p>Plane
 t Prague unfolds the story of Prague’s nature in a different way than we ar
 e used to. Instead of focusing on the Divoká Šárka or the Prokopské Valley,
  it rather depicts tales from bushes in housing estates, neglected courtyar
 ds, and peed on corners. It observes the city through the “eyes” of plants 
 and animals: How do they perceive the pavements, station platforms, street 
 lamps or cracks in the facade? How do they use the environment that people 
 have built for themselves? How many “inhabitants” does Prague actually have
 ?</p><p>The panoramic projection in the Black Hall is an imaginary window i
 nto selected Prague “biotopes” – from the Prague steppe, the urban jungle, 
 and the pond in the park to an ordinary sidewalk and a summer night in Petř
 ín. Visitors to the exhibition become field researchers who discover the hi
 dden life of Prague’s nature through unique movie footage. The virtual real
 ity installation leads visitors to a future Prague without people – fish br
 eed in the flooded metro, a dense oak forest flourishes in the center, and 
 herds of wild pigs roam among the ruins of buildings. This is also what Pra
 gue may look like in a hundred years. Visitors can see the succession (i.e.
  the cycle of changing communities in the ecosystem) “working” in the atriu
 m. The neat living area has been transformed into a wild open-air laborator
 y; a small urban jungle where several plant species take turns in the strug
 gle for living space during the six months of the exhibition. Which one wil
 l win in the end?</p><p>Reliable guides through the “jungle” of the big cit
 y are expert consultants, without whom the exhibition would not have been c
 reated. Therefore, the exhibition shows everything that belongs in their pr
 ofession and fieldwork – tools, photographs, sketches, illustrations, notes
 , and notebooks, as well as finds from expeditions into the urban nature. T
 hus, visitors to CAMP can see, for example, the sleeping bag of botanist Ja
 n Albert Šturma in which he spends his nights in the urban bush, a model of
  an anthill used by documentary filmmaker Jan Hošek to peek into the “kitch
 en” of ants, or the insect net of zoologist Ondřej Sedláček because even in
  the 21st century, “entomology simply cannot be done without a net”. The ex
 hibition is complemented by a rich accompanying program. In addition to gui
 ded tours, visitors can engage in observation of urban nature directly in t
 he field or attend thematic movie screenings. Lectures and debates focus on
  how the urban landscape and nature can be cared for and, among other thing
 s, present the work of experts from the Prague Institute of Planning and De
 velopment (IPR Prague), the Department of Environment of the Prague City Ha
 ll, and other institutions.</p>
CONTACT:Phone: +420 770 141 547, e-mail: This email address is being protected from spambots. You need JavaScript enabled to view it., URL: https://praha.camp/vystavy/detail/planeta-praha
DTSTAMP:20260420T001302
DTSTART;TZID=Europe/Prague;VALUE=DATE:20240321
DTEND;TZID=Europe/Prague;VALUE=DATE:20240902
SEQUENCE:0
TRANSP:OPAQUE
END:VEVENT
END:VCALENDAR