BEGIN:VCALENDAR
VERSION:2.0
PRODID:-//jEvents 2.0 for Joomla//EN
CALSCALE:GREGORIAN
METHOD:PUBLISH
BEGIN:VTIMEZONE
TZID:Europe/Prague
BEGIN:STANDARD
DTSTART:20241027T020000
RDATE:20250330T030000
TZOFFSETFROM:+0200
TZOFFSETTO:+0100
TZNAME:Europe/Prague CET
END:STANDARD
BEGIN:STANDARD
DTSTART:20251026T020000
RDATE:20260329T030000
TZOFFSETFROM:+0200
TZOFFSETTO:+0100
TZNAME:Europe/Prague CET
END:STANDARD
BEGIN:STANDARD
DTSTART:20261025T020000
RDATE:20270328T030000
TZOFFSETFROM:+0200
TZOFFSETTO:+0100
TZNAME:Europe/Prague CET
END:STANDARD
BEGIN:STANDARD
DTSTART:20271031T020000
RDATE:20280326T030000
TZOFFSETFROM:+0200
TZOFFSETTO:+0100
TZNAME:Europe/Prague CET
END:STANDARD
BEGIN:STANDARD
DTSTART:20281029T020000
RDATE:20290325T030000
TZOFFSETFROM:+0200
TZOFFSETTO:+0100
TZNAME:Europe/Prague CET
END:STANDARD
BEGIN:STANDARD
DTSTART:20291028T020000
RDATE:20300331T030000
TZOFFSETFROM:+0200
TZOFFSETTO:+0100
TZNAME:Europe/Prague CET
END:STANDARD
BEGIN:STANDARD
DTSTART:20301027T020000
RDATE:20310330T030000
TZOFFSETFROM:+0200
TZOFFSETTO:+0100
TZNAME:Europe/Prague CET
END:STANDARD
BEGIN:STANDARD
DTSTART:20311026T020000
RDATE:20320328T030000
TZOFFSETFROM:+0200
TZOFFSETTO:+0100
TZNAME:Europe/Prague CET
END:STANDARD
BEGIN:DAYLIGHT
DTSTART:20241010T080000
RDATE:20241027T020000
TZOFFSETFROM:+0100
TZOFFSETTO:+0200
TZNAME:Europe/Prague CEST
END:DAYLIGHT
BEGIN:DAYLIGHT
DTSTART:20250330T030000
RDATE:20251026T020000
TZOFFSETFROM:+0100
TZOFFSETTO:+0200
TZNAME:Europe/Prague CEST
END:DAYLIGHT
BEGIN:DAYLIGHT
DTSTART:20260329T030000
RDATE:20261025T020000
TZOFFSETFROM:+0100
TZOFFSETTO:+0200
TZNAME:Europe/Prague CEST
END:DAYLIGHT
BEGIN:DAYLIGHT
DTSTART:20270328T030000
RDATE:20271031T020000
TZOFFSETFROM:+0100
TZOFFSETTO:+0200
TZNAME:Europe/Prague CEST
END:DAYLIGHT
BEGIN:DAYLIGHT
DTSTART:20280326T030000
RDATE:20281029T020000
TZOFFSETFROM:+0100
TZOFFSETTO:+0200
TZNAME:Europe/Prague CEST
END:DAYLIGHT
BEGIN:DAYLIGHT
DTSTART:20290325T030000
RDATE:20291028T020000
TZOFFSETFROM:+0100
TZOFFSETTO:+0200
TZNAME:Europe/Prague CEST
END:DAYLIGHT
BEGIN:DAYLIGHT
DTSTART:20300331T030000
RDATE:20301027T020000
TZOFFSETFROM:+0100
TZOFFSETTO:+0200
TZNAME:Europe/Prague CEST
END:DAYLIGHT
BEGIN:DAYLIGHT
DTSTART:20310330T030000
RDATE:20311026T020000
TZOFFSETFROM:+0100
TZOFFSETTO:+0200
TZNAME:Europe/Prague CEST
END:DAYLIGHT
END:VTIMEZONE
BEGIN:VEVENT
UID:234e4839ba55665fb3c3623bb9b21854
CATEGORIES:Sales Exhibitions, Exhibitions
CREATED:20250122T144438
SUMMARY:Mezinárodní entomologický výměnný den a výstava Kroměříž
LOCATION:Kroměříž\, Česká republika
DESCRIPTION:Výstaviště Kroměříž, K Výstavišti 4069/8, Hala B. \nMezinárodní setkání sbě
 ratelů a chovatelů brouků, motýlů a ostatních skupin hmyzu. Součástí je nák
 up, prodej entomologických potřeb, odborné literatury a ochutnávka hmyzu.\n
 Informace na mob.: +420 604 670 861, Ing. Dan Čagánek,e-mail: This email ad
 dress is being protected from spambots. You need JavaScript enabled to view
  it.,    www.hobbyvystaviste.cz (https://www.hobbyvystaviste.cz/)\n
X-ALT-DESC;FMTTYPE=text/html:<p><strong>Výstaviště Kroměříž, </strong><strong>K Výstavišti 4069/8, Hala 
 B.</strong>&nbsp;</p><p>Mezinárodní setkání sběratelů a chovatelů brouků, m
 otýlů a ostatních skupin hmyzu. Součástí je nákup, prodej entomologických p
 otřeb, odborné literatury a ochutnávka hmyzu.</p><p>Informace na mob.:&nbsp
 ;<strong>+420 604 670 861</strong>, Ing.&nbsp;Dan Čagánek,e-mail: <joomla-h
 idden-mail  is-link="" is-email="1" first="ZGFuLmNhZ2FuZWs=" last="dGlzY2Fs
 aS5jeg==" text="ZGFuLmNhZ2FuZWtAdGlzY2FsaS5jeg==" base="" >This email addre
 ss is being protected from spambots. You need JavaScript enabled to view it
 .</joomla-hidden-mail>,&nbsp; &nbsp;&nbsp;<a href="https://www.hobbyvystavi
 ste.cz/">www.hobbyvystaviste.cz</a></p>
CONTACT:ng. Dan Čagánek, mobil: +420 604 670 861, e-mail: This email address is being protected from spambots. You need JavaScript enabled to view it.
DTSTAMP:20260420T001144
DTSTART;TZID=Europe/Prague:20251011T080000
DTEND;TZID=Europe/Prague:20251011T130000
SEQUENCE:0
TRANSP:OPAQUE
END:VEVENT
END:VCALENDAR