BEGIN:VCALENDAR
VERSION:2.0
PRODID:-//jEvents 2.0 for Joomla//EN
CALSCALE:GREGORIAN
METHOD:PUBLISH
BEGIN:VTIMEZONE
TZID:Europe/Prague
BEGIN:STANDARD
DTSTART:20240228T110000
RDATE:20240331T030000
TZOFFSETFROM:+0200
TZOFFSETTO:+0100
TZNAME:Europe/Prague CET
END:STANDARD
BEGIN:STANDARD
DTSTART:20241027T020000
RDATE:20250330T030000
TZOFFSETFROM:+0200
TZOFFSETTO:+0100
TZNAME:Europe/Prague CET
END:STANDARD
BEGIN:STANDARD
DTSTART:20251026T020000
RDATE:20260329T030000
TZOFFSETFROM:+0200
TZOFFSETTO:+0100
TZNAME:Europe/Prague CET
END:STANDARD
BEGIN:STANDARD
DTSTART:20261025T020000
RDATE:20270328T030000
TZOFFSETFROM:+0200
TZOFFSETTO:+0100
TZNAME:Europe/Prague CET
END:STANDARD
BEGIN:STANDARD
DTSTART:20271031T020000
RDATE:20280326T030000
TZOFFSETFROM:+0200
TZOFFSETTO:+0100
TZNAME:Europe/Prague CET
END:STANDARD
BEGIN:STANDARD
DTSTART:20281029T020000
RDATE:20290325T030000
TZOFFSETFROM:+0200
TZOFFSETTO:+0100
TZNAME:Europe/Prague CET
END:STANDARD
BEGIN:STANDARD
DTSTART:20291028T020000
RDATE:20300331T030000
TZOFFSETFROM:+0200
TZOFFSETTO:+0100
TZNAME:Europe/Prague CET
END:STANDARD
BEGIN:STANDARD
DTSTART:20301027T020000
RDATE:20310330T030000
TZOFFSETFROM:+0200
TZOFFSETTO:+0100
TZNAME:Europe/Prague CET
END:STANDARD
BEGIN:STANDARD
DTSTART:20311026T020000
RDATE:20320328T030000
TZOFFSETFROM:+0200
TZOFFSETTO:+0100
TZNAME:Europe/Prague CET
END:STANDARD
BEGIN:DAYLIGHT
DTSTART:20240331T030000
RDATE:20241027T020000
TZOFFSETFROM:+0100
TZOFFSETTO:+0200
TZNAME:Europe/Prague CEST
END:DAYLIGHT
BEGIN:DAYLIGHT
DTSTART:20250330T030000
RDATE:20251026T020000
TZOFFSETFROM:+0100
TZOFFSETTO:+0200
TZNAME:Europe/Prague CEST
END:DAYLIGHT
BEGIN:DAYLIGHT
DTSTART:20260329T030000
RDATE:20261025T020000
TZOFFSETFROM:+0100
TZOFFSETTO:+0200
TZNAME:Europe/Prague CEST
END:DAYLIGHT
BEGIN:DAYLIGHT
DTSTART:20270328T030000
RDATE:20271031T020000
TZOFFSETFROM:+0100
TZOFFSETTO:+0200
TZNAME:Europe/Prague CEST
END:DAYLIGHT
BEGIN:DAYLIGHT
DTSTART:20280326T030000
RDATE:20281029T020000
TZOFFSETFROM:+0100
TZOFFSETTO:+0200
TZNAME:Europe/Prague CEST
END:DAYLIGHT
BEGIN:DAYLIGHT
DTSTART:20290325T030000
RDATE:20291028T020000
TZOFFSETFROM:+0100
TZOFFSETTO:+0200
TZNAME:Europe/Prague CEST
END:DAYLIGHT
BEGIN:DAYLIGHT
DTSTART:20300331T030000
RDATE:20301027T020000
TZOFFSETFROM:+0100
TZOFFSETTO:+0200
TZNAME:Europe/Prague CEST
END:DAYLIGHT
BEGIN:DAYLIGHT
DTSTART:20310330T030000
RDATE:20311026T020000
TZOFFSETFROM:+0100
TZOFFSETTO:+0200
TZNAME:Europe/Prague CEST
END:DAYLIGHT
END:VTIMEZONE
BEGIN:VEVENT
UID:e94f6ab444d500fa240a8976d007ee1f
CATEGORIES:Sales Exhibitions, Exhibitions
CREATED:20250122T145037
SUMMARY:Prodejní výstava brouků a motýlů Praha
LOCATION:Praha\, Česká republika
DESCRIPTION:Hotel Olympik Congress Tristar, U Sluncové 14A, Praha 8 - prodejní výstava 
 brouků a motýlů, ENTOMOLOGICAL EXCHANGE DAYS AND EXHIBITION.\npátek 28. 2. 
 2025 11- 18 hod., sobota 1. 3. 2025 9.00 - 17.00 hod.\nInformace : +420 604
  670 861,Ing.Dan Čagánek, e-mail:  (mailto:dan.caganek@tiscali.cz) (mailto:
 dan.caganek@tiscali.cz)This email address is being protected from spambots.
  You need JavaScript enabled to view it.,  www.hobbypraha.cz (https://www.h
 obbypraha.cz/)\n
X-ALT-DESC;FMTTYPE=text/html:<p><strong>Hotel Olympik Congress Tristar</strong>, U Sluncové 14A, <strong
 >Praha 8</strong> - prodejní výstava brouků a motýlů, ENTOMOLOGICAL EXCHANG
 E DAYS AND EXHIBITION.</p><p>pátek 28. 2. 2025 11- 18 hod., sobota 1. 3. 20
 25 9.00 - 17.00 hod.</p><p>Informace : <strong>+420 604 670 861</strong>,In
 g.Dan Čagánek, e-mail: <a href="mailto:dan.caganek@tiscali.cz"></a><a href=
 "mailto:dan.caganek@tiscali.cz"></a><joomla-hidden-mail  is-link="" is-emai
 l="1" first="ZGFuLmNhZ2FuZWs=" last="dGlzY2FsaS5jeg==" text="ZGFuLmNhZ2FuZW
 tAdGlzY2FsaS5jeg==" base="" >This email address is being protected from spa
 mbots. You need JavaScript enabled to view it.</joomla-hidden-mail>,&nbsp;<
 strong> <a href="https://www.hobbypraha.cz/">www.hobbypraha.cz</a></strong>
 </p>
CONTACT:Ing.Dan Čagánek, mobil: +420 604 670 861, e-mail: This email address is being protected from spambots. You need JavaScript enabled to view it.,
DTSTAMP:20260420T002343
DTSTART;TZID=Europe/Prague:20250228T110000
DTEND;TZID=Europe/Prague:20250301T170000
SEQUENCE:0
TRANSP:OPAQUE
END:VEVENT
END:VCALENDAR