BEGIN:VCALENDAR
VERSION:2.0
PRODID:-//jEvents 2.0 for Joomla//EN
CALSCALE:GREGORIAN
METHOD:PUBLISH
BEGIN:VTIMEZONE
TZID:Europe/Prague
BEGIN:STANDARD
DTSTART:20250123T090000
RDATE:20250330T030000
TZOFFSETFROM:+0200
TZOFFSETTO:+0100
TZNAME:Europe/Prague CET
END:STANDARD
BEGIN:STANDARD
DTSTART:20251026T020000
RDATE:20260329T030000
TZOFFSETFROM:+0200
TZOFFSETTO:+0100
TZNAME:Europe/Prague CET
END:STANDARD
BEGIN:STANDARD
DTSTART:20261025T020000
RDATE:20270328T030000
TZOFFSETFROM:+0200
TZOFFSETTO:+0100
TZNAME:Europe/Prague CET
END:STANDARD
BEGIN:STANDARD
DTSTART:20271031T020000
RDATE:20280326T030000
TZOFFSETFROM:+0200
TZOFFSETTO:+0100
TZNAME:Europe/Prague CET
END:STANDARD
BEGIN:STANDARD
DTSTART:20281029T020000
RDATE:20290325T030000
TZOFFSETFROM:+0200
TZOFFSETTO:+0100
TZNAME:Europe/Prague CET
END:STANDARD
BEGIN:STANDARD
DTSTART:20291028T020000
RDATE:20300331T030000
TZOFFSETFROM:+0200
TZOFFSETTO:+0100
TZNAME:Europe/Prague CET
END:STANDARD
BEGIN:STANDARD
DTSTART:20301027T020000
RDATE:20310330T030000
TZOFFSETFROM:+0200
TZOFFSETTO:+0100
TZNAME:Europe/Prague CET
END:STANDARD
BEGIN:STANDARD
DTSTART:20311026T020000
RDATE:20320328T030000
TZOFFSETFROM:+0200
TZOFFSETTO:+0100
TZNAME:Europe/Prague CET
END:STANDARD
BEGIN:DAYLIGHT
DTSTART:20250330T030000
RDATE:20251026T020000
TZOFFSETFROM:+0100
TZOFFSETTO:+0200
TZNAME:Europe/Prague CEST
END:DAYLIGHT
BEGIN:DAYLIGHT
DTSTART:20260329T030000
RDATE:20261025T020000
TZOFFSETFROM:+0100
TZOFFSETTO:+0200
TZNAME:Europe/Prague CEST
END:DAYLIGHT
BEGIN:DAYLIGHT
DTSTART:20270328T030000
RDATE:20271031T020000
TZOFFSETFROM:+0100
TZOFFSETTO:+0200
TZNAME:Europe/Prague CEST
END:DAYLIGHT
BEGIN:DAYLIGHT
DTSTART:20280326T030000
RDATE:20281029T020000
TZOFFSETFROM:+0100
TZOFFSETTO:+0200
TZNAME:Europe/Prague CEST
END:DAYLIGHT
BEGIN:DAYLIGHT
DTSTART:20290325T030000
RDATE:20291028T020000
TZOFFSETFROM:+0100
TZOFFSETTO:+0200
TZNAME:Europe/Prague CEST
END:DAYLIGHT
BEGIN:DAYLIGHT
DTSTART:20300331T030000
RDATE:20301027T020000
TZOFFSETFROM:+0100
TZOFFSETTO:+0200
TZNAME:Europe/Prague CEST
END:DAYLIGHT
BEGIN:DAYLIGHT
DTSTART:20310330T030000
RDATE:20311026T020000
TZOFFSETFROM:+0100
TZOFFSETTO:+0200
TZNAME:Europe/Prague CEST
END:DAYLIGHT
END:VTIMEZONE
BEGIN:VEVENT
UID:1e97c1f833444eff61e9e4079fb15b6d
CATEGORIES:Sales Exhibitions, Exhibitions
CREATED:20250122T145218
SUMMARY:Beetle and Butterfly Sales Exhibition Prague
LOCATION:Prague\, Czech Republic
DESCRIPTION:Hotel Olympik Congress Tristar, U Sluncové 14A, Praha 8 - sales exhibition 
 of beetles and butterflies, ENTOMOLOGICAL EXCHANGE DAYS AND EXHIBITION.\nIn
 formation : +420 604 670 861, Ing.Dan Čagánek, e-mail: This email address i
 s being protected from spambots. You need JavaScript enabled to view it.  w
 ww.hobbypraha.cz (https://www.hobbypraha.cz/)\nAdmission\nAdults 150,- CZK\
 nChildren up to 150 cm, ZTP, ZTP/P + accompanying person FREE\nInternationa
 l insect exchange days and exhibition - Prague, Hotel Olympik Tristar\nThe 
 professional public and the general public are cordially invited to the pre
 stigious entomological event, which annually ranks among the most important
  meetings in the field. The Congress Centre of the Hotel Olympik Tristar wi
 ll provide facilities for international exchange days, a professional exhib
 ition of prepared and live insects and a presentation of entomological coll
 ections from different parts of the world.\nThe event includes a wide range
  of collecting material, exchange and sale of specimens (beetles, butterfli
 es, spider moths, scarecrows, etc.), specialized tools for field collection
  and preparation, as well as specialist literature. The exhibition is compl
 emented by an educational section for the public and demonstrations of inse
 ct specialties for those interested in entomophagy.\nThe event serves as a 
 space for establishing international contacts, sharing knowledge and presen
 ting the results of amateur and professional research. Collectors, research
 ers, educators, science students and the general public interested in inver
 tebrate biology and systematics are welcome.\nA unique opportunity to expan
 d knowledge, exchange experiences and enrich entomological collections.\n
X-ALT-DESC;FMTTYPE=text/html:<p><strong>Hotel Olympik Congress Tristar</strong>, U Sluncové 14A, <strong
 >Praha 8</strong> - sales exhibition of beetles and butterflies, ENTOMOLOGI
 CAL EXCHANGE DAYS AND EXHIBITION.</p><p>Information : <strong>+420 604 670 
 861</strong>, Ing.Dan Čagánek, e-mail: <joomla-hidden-mail  is-link="" is-e
 mail="0" first="ZGFuLmNhZ2FuZWs=" last="dGlzY2FsaS5jeg==" text="ZGFuLmNhZ2F
 uZWtAdGlzY2FsaS5jeiw=" base="" >This email address is being protected from 
 spambots. You need JavaScript enabled to view it.</joomla-hidden-mail> <str
 ong> <a href="https://www.hobbypraha.cz/">www.hobbypraha.cz</a></strong></p
 ><p><strong>Admission</strong><br />Adults 150,- CZK<br />Children up to 15
 0 cm, ZTP, ZTP/P + accompanying person FREE</p><p data-start="0" data-end="
 74"><strong data-start="0" data-end="74">International insect exchange days
  and exhibition - Prague, Hotel Olympik Tristar</strong></p><p data-start="
 76" data-end="420">The professional public and the general public are cordi
 ally invited to the prestigious entomological event, which annually ranks a
 mong the most important meetings in the field. The Congress Centre of the H
 otel Olympik Tristar will provide facilities for international exchange day
 s, a professional exhibition of prepared and live insects and a presentatio
 n of entomological collections from different parts of the world.</p><p dat
 a-start="422" data-end="740">The event includes a wide range of collecting 
 material, exchange and sale of specimens (beetles, butterflies, spider moth
 s, scarecrows, etc.), specialized tools for field collection and preparatio
 n, as well as specialist literature. The exhibition is complemented by an e
 ducational section for the public and demonstrations of insect specialties 
 for those interested in entomophagy.</p><p data-start="742" data-end="1036"
 >The event serves as a space for establishing international contacts, shari
 ng knowledge and presenting the results of amateur and professional researc
 h. Collectors, researchers, educators, science students and the general pub
 lic interested in invertebrate biology and systematics are welcome.</p><p d
 ata-start="1038" data-end="1135">A unique opportunity to expand knowledge, 
 exchange experiences and enrich entomological collections.</p>
CONTACT:Ing.Dan Čagánek, mobil: +420 604 670 861, e-mail: This email address is being protected from spambots. You need JavaScript enabled to view it.,
DTSTAMP:20260419T204353
DTSTART;TZID=Europe/Prague:20260124T090000
DTEND;TZID=Europe/Prague:20260124T170000
SEQUENCE:0
TRANSP:OPAQUE
END:VEVENT
END:VCALENDAR