BEGIN:VCALENDAR
VERSION:2.0
PRODID:-//jEvents 2.0 for Joomla//EN
CALSCALE:GREGORIAN
METHOD:PUBLISH
BEGIN:VTIMEZONE
TZID:Europe/Prague
BEGIN:STANDARD
DTSTART:20241027T020000
RDATE:20250330T030000
TZOFFSETFROM:+0200
TZOFFSETTO:+0100
TZNAME:Europe/Prague CET
END:STANDARD
BEGIN:STANDARD
DTSTART:20251026T020000
RDATE:20260329T030000
TZOFFSETFROM:+0200
TZOFFSETTO:+0100
TZNAME:Europe/Prague CET
END:STANDARD
BEGIN:STANDARD
DTSTART:20261025T020000
RDATE:20270328T030000
TZOFFSETFROM:+0200
TZOFFSETTO:+0100
TZNAME:Europe/Prague CET
END:STANDARD
BEGIN:STANDARD
DTSTART:20271031T020000
RDATE:20280326T030000
TZOFFSETFROM:+0200
TZOFFSETTO:+0100
TZNAME:Europe/Prague CET
END:STANDARD
BEGIN:STANDARD
DTSTART:20281029T020000
RDATE:20290325T030000
TZOFFSETFROM:+0200
TZOFFSETTO:+0100
TZNAME:Europe/Prague CET
END:STANDARD
BEGIN:STANDARD
DTSTART:20291028T020000
RDATE:20300331T030000
TZOFFSETFROM:+0200
TZOFFSETTO:+0100
TZNAME:Europe/Prague CET
END:STANDARD
BEGIN:STANDARD
DTSTART:20301027T020000
RDATE:20310330T030000
TZOFFSETFROM:+0200
TZOFFSETTO:+0100
TZNAME:Europe/Prague CET
END:STANDARD
BEGIN:STANDARD
DTSTART:20311026T020000
RDATE:20320328T030000
TZOFFSETFROM:+0200
TZOFFSETTO:+0100
TZNAME:Europe/Prague CET
END:STANDARD
BEGIN:DAYLIGHT
DTSTART:20240912T090000
RDATE:20241027T020000
TZOFFSETFROM:+0100
TZOFFSETTO:+0200
TZNAME:Europe/Prague CEST
END:DAYLIGHT
BEGIN:DAYLIGHT
DTSTART:20250330T030000
RDATE:20251026T020000
TZOFFSETFROM:+0100
TZOFFSETTO:+0200
TZNAME:Europe/Prague CEST
END:DAYLIGHT
BEGIN:DAYLIGHT
DTSTART:20260329T030000
RDATE:20261025T020000
TZOFFSETFROM:+0100
TZOFFSETTO:+0200
TZNAME:Europe/Prague CEST
END:DAYLIGHT
BEGIN:DAYLIGHT
DTSTART:20270328T030000
RDATE:20271031T020000
TZOFFSETFROM:+0100
TZOFFSETTO:+0200
TZNAME:Europe/Prague CEST
END:DAYLIGHT
BEGIN:DAYLIGHT
DTSTART:20280326T030000
RDATE:20281029T020000
TZOFFSETFROM:+0100
TZOFFSETTO:+0200
TZNAME:Europe/Prague CEST
END:DAYLIGHT
BEGIN:DAYLIGHT
DTSTART:20290325T030000
RDATE:20291028T020000
TZOFFSETFROM:+0100
TZOFFSETTO:+0200
TZNAME:Europe/Prague CEST
END:DAYLIGHT
BEGIN:DAYLIGHT
DTSTART:20300331T030000
RDATE:20301027T020000
TZOFFSETFROM:+0100
TZOFFSETTO:+0200
TZNAME:Europe/Prague CEST
END:DAYLIGHT
BEGIN:DAYLIGHT
DTSTART:20310330T030000
RDATE:20311026T020000
TZOFFSETFROM:+0100
TZOFFSETTO:+0200
TZNAME:Europe/Prague CEST
END:DAYLIGHT
END:VTIMEZONE
BEGIN:VEVENT
UID:62469597e37c2aacbe089484d8147dd2
CATEGORIES:Sales Exhibitions
CREATED:20250122T151620
SUMMARY:Entomologický výměnný a prodejní den s výstavou bezobratlých živočichů v Brně
LOCATION:Brno\, Česká republika
DESCRIPTION:<p><strong>sál Dělnického domu v Brně, </strong>na ulici Jamborova č. 65, z
 astávka tram.č.9, bus 55,58,78<strong>. </strong></p><p>Součástí akce bude 
 prodej entomologického materiálu, potřeb a literatury i ukázky prací Entomo
 logických kroužků E.K.J.CH., Ing. Jiřího Chromého.&nbsp;</p><p>Informace: I
 ng. Jiří Chromý, mobil: +420 730 807 770,E-mail:&nbsp;<a href="mailto:jurac
 hromy@seznam.cz"></a><a href="mailto:jurachromy@seznam.cz"></a><joomla-hidd
 en-mail  is-link="" is-email="1" first="anVyYWNocm9teQ==" last="c2V6bmFtLmN
 6" text="anVyYWNocm9teUBzZXpuYW0uY3o=" base="" >This email address is being
  protected from spambots. You need JavaScript enabled to view it.</joomla-h
 idden-mail>&nbsp;,&nbsp;<a href="http://entosphinx.cz/img/cms/pdf/Pozv%C3%A
 1n%C3%AD%20na%20XIX.%20BEB%20v%20z%C3%A1%C5%99%C3%AD%202024_1.pdf">pozvánka
 </a>&nbsp;</p>
CONTACT:Ing. Jiří Chromý, mobil: +420 730 807 770, e-mail: This email address is being protected from spambots. You need JavaScript enabled to view it.
DTSTAMP:20260420T002900
DTSTART;TZID=Europe/Prague:20250913T090000
DTEND;TZID=Europe/Prague:20250913T130000
SEQUENCE:0
TRANSP:OPAQUE
END:VEVENT
END:VCALENDAR